BEGIN:VCALENDAR
VERSION:2.0
PRODID:-//BA Tiger Sports - ECPv6.15.20//NONSGML v1.0//EN
CALSCALE:GREGORIAN
METHOD:PUBLISH
X-WR-CALNAME:BA Tiger Sports
X-ORIGINAL-URL:https://batigersports.com
X-WR-CALDESC:Events for BA Tiger Sports
REFRESH-INTERVAL;VALUE=DURATION:PT1H
X-Robots-Tag:noindex
X-PUBLISHED-TTL:PT1H
BEGIN:VTIMEZONE
TZID:America/Chicago
BEGIN:DAYLIGHT
TZOFFSETFROM:-0600
TZOFFSETTO:-0500
TZNAME:CDT
DTSTART:20240310T080000
END:DAYLIGHT
BEGIN:STANDARD
TZOFFSETFROM:-0500
TZOFFSETTO:-0600
TZNAME:CST
DTSTART:20241103T070000
END:STANDARD
BEGIN:DAYLIGHT
TZOFFSETFROM:-0600
TZOFFSETTO:-0500
TZNAME:CDT
DTSTART:20250309T080000
END:DAYLIGHT
BEGIN:STANDARD
TZOFFSETFROM:-0500
TZOFFSETTO:-0600
TZNAME:CST
DTSTART:20251102T070000
END:STANDARD
BEGIN:DAYLIGHT
TZOFFSETFROM:-0600
TZOFFSETTO:-0500
TZNAME:CDT
DTSTART:20260308T080000
END:DAYLIGHT
BEGIN:STANDARD
TZOFFSETFROM:-0500
TZOFFSETTO:-0600
TZNAME:CST
DTSTART:20261101T070000
END:STANDARD
END:VTIMEZONE
BEGIN:VEVENT
DTSTART;TZID=America/Chicago:20250908T163000
DTEND;TZID=America/Chicago:20250908T163000
DTSTAMP:20260421T002852
CREATED:20250807T160627Z
LAST-MODIFIED:20250807T160627Z
UID:9293-1757349000-1757349000@batigersports.com
SUMMARY:Tigers - 8th American Volleyball
DESCRIPTION:Bartlesville 8th A
URL:https://batigersports.com/schedule/tigers-8th-american-volleyball-4/
CATEGORIES:Volleyball(F)
END:VEVENT
BEGIN:VEVENT
DTSTART;TZID=America/Chicago:20250908T163000
DTEND;TZID=America/Chicago:20250908T163000
DTSTAMP:20260421T002852
CREATED:20250807T160628Z
LAST-MODIFIED:20250807T160628Z
UID:9294-1757349000-1757349000@batigersports.com
SUMMARY:Tigers - 8th National Volleyball
DESCRIPTION:Bartlesville 8th B
URL:https://batigersports.com/schedule/tigers-8th-national-volleyball-3/
CATEGORIES:Volleyball(F)
END:VEVENT
BEGIN:VEVENT
DTSTART;TZID=America/Chicago:20250908T163000
DTEND;TZID=America/Chicago:20250908T163000
DTSTAMP:20260421T002852
CREATED:20250807T160642Z
LAST-MODIFIED:20250807T160642Z
UID:9295-1757349000-1757349000@batigersports.com
SUMMARY:Tigers - 7th American Volleyball
DESCRIPTION:Bartlesville 7th
URL:https://batigersports.com/schedule/tigers-7th-american-volleyball-4/
CATEGORIES:Volleyball(F)
END:VEVENT
BEGIN:VEVENT
DTSTART;TZID=America/Chicago:20250908T173000
DTEND;TZID=America/Chicago:20250908T173000
DTSTAMP:20260421T002852
CREATED:20250807T160642Z
LAST-MODIFIED:20250807T160642Z
UID:9296-1757352600-1757352600@batigersports.com
SUMMARY:Tigers - 8th American Volleyball
DESCRIPTION:Bartlesville 8th B
URL:https://batigersports.com/schedule/tigers-8th-american-volleyball-5/
CATEGORIES:Volleyball(F)
END:VEVENT
BEGIN:VEVENT
DTSTART;TZID=America/Chicago:20250908T173000
DTEND;TZID=America/Chicago:20250908T173000
DTSTAMP:20260421T002852
CREATED:20250807T160642Z
LAST-MODIFIED:20250807T160642Z
UID:9297-1757352600-1757352600@batigersports.com
SUMMARY:Tigers - 8th National Volleyball
DESCRIPTION:Muskogee 8th
URL:https://batigersports.com/schedule/tigers-8th-national-volleyball-4/
CATEGORIES:Volleyball(F)
END:VEVENT
BEGIN:VEVENT
DTSTART;TZID=America/Chicago:20250908T180000
DTEND;TZID=America/Chicago:20250908T180000
DTSTAMP:20260421T002852
CREATED:20250807T160642Z
LAST-MODIFIED:20250807T160642Z
UID:9298-1757354400-1757354400@batigersports.com
SUMMARY:Tigers - 8th FP Softball
DESCRIPTION:Jenks
URL:https://batigersports.com/schedule/tigers-8th-fp-softball-12/
CATEGORIES:Softball(F)
END:VEVENT
BEGIN:VEVENT
DTSTART;TZID=America/Chicago:20250908T180000
DTEND;TZID=America/Chicago:20250908T180000
DTSTAMP:20260421T002852
CREATED:20250807T160643Z
LAST-MODIFIED:20250807T160643Z
UID:9299-1757354400-1757354400@batigersports.com
SUMMARY:Tigers - JV Football Black
DESCRIPTION:Bixby High School HS: JV Football(M) Red
URL:https://batigersports.com/schedule/tigers-jv-football-black/
CATEGORIES:Football(M)
END:VEVENT
BEGIN:VEVENT
DTSTART;TZID=America/Chicago:20250908T183000
DTEND;TZID=America/Chicago:20250908T183000
DTSTAMP:20260421T002852
CREATED:20250807T160657Z
LAST-MODIFIED:20250807T160657Z
UID:9301-1757356200-1757356200@batigersports.com
SUMMARY:Tigers - 7th National Volleyball
DESCRIPTION:Muskogee 7th
URL:https://batigersports.com/schedule/tigers-7th-national-volleyball-3/
CATEGORIES:Volleyball(F)
END:VEVENT
BEGIN:VEVENT
DTSTART;TZID=America/Chicago:20250908T183000
DTEND;TZID=America/Chicago:20250908T183000
DTSTAMP:20260421T002852
CREATED:20250807T160657Z
LAST-MODIFIED:20250807T160657Z
UID:9300-1757356200-1757356200@batigersports.com
SUMMARY:Tigers - 7th American Volleyball
DESCRIPTION:Muskogee 7th
URL:https://batigersports.com/schedule/tigers-7th-american-volleyball-5/
CATEGORIES:Volleyball(F)
END:VEVENT
BEGIN:VEVENT
DTSTART;TZID=America/Chicago:20250908T193000
DTEND;TZID=America/Chicago:20250908T193000
DTSTAMP:20260421T002852
CREATED:20250807T160657Z
LAST-MODIFIED:20250807T160657Z
UID:9302-1757359800-1757359800@batigersports.com
SUMMARY:Tigers - 7th National Volleyball
DESCRIPTION:Bartlesville 7th
URL:https://batigersports.com/schedule/tigers-7th-national-volleyball-4/
CATEGORIES:Volleyball(F)
END:VEVENT
END:VCALENDAR