BEGIN:VCALENDAR
VERSION:2.0
PRODID:-//BA Tiger Sports - ECPv6.15.20//NONSGML v1.0//EN
CALSCALE:GREGORIAN
METHOD:PUBLISH
X-ORIGINAL-URL:https://batigersports.com
X-WR-CALDESC:Events for BA Tiger Sports
REFRESH-INTERVAL;VALUE=DURATION:PT1H
X-Robots-Tag:noindex
X-PUBLISHED-TTL:PT1H
BEGIN:VTIMEZONE
TZID:America/Chicago
BEGIN:DAYLIGHT
TZOFFSETFROM:-0600
TZOFFSETTO:-0500
TZNAME:CDT
DTSTART:20240310T080000
END:DAYLIGHT
BEGIN:STANDARD
TZOFFSETFROM:-0500
TZOFFSETTO:-0600
TZNAME:CST
DTSTART:20241103T070000
END:STANDARD
BEGIN:DAYLIGHT
TZOFFSETFROM:-0600
TZOFFSETTO:-0500
TZNAME:CDT
DTSTART:20250309T080000
END:DAYLIGHT
BEGIN:STANDARD
TZOFFSETFROM:-0500
TZOFFSETTO:-0600
TZNAME:CST
DTSTART:20251102T070000
END:STANDARD
BEGIN:DAYLIGHT
TZOFFSETFROM:-0600
TZOFFSETTO:-0500
TZNAME:CDT
DTSTART:20260308T080000
END:DAYLIGHT
BEGIN:STANDARD
TZOFFSETFROM:-0500
TZOFFSETTO:-0600
TZNAME:CST
DTSTART:20261101T070000
END:STANDARD
END:VTIMEZONE
BEGIN:VEVENT
DTSTART;TZID=America/Chicago:20251201T180000
DTEND;TZID=America/Chicago:20251201T180000
DTSTAMP:20260420T193440
CREATED:20251203T174638Z
LAST-MODIFIED:20251203T174638Z
UID:9548-1764612000-1764612000@batigersports.com
SUMMARY:Tigers - Sophomore Boys Basketball
DESCRIPTION:East Central HS East Central
URL:https://batigersports.com/schedule/tigers-sophomore-boys-basketball-7/
CATEGORIES:Basketball(M)
END:VEVENT
BEGIN:VEVENT
DTSTART;TZID=America/Chicago:20251201T180000
DTEND;TZID=America/Chicago:20251201T180000
DTSTAMP:20260420T193440
CREATED:20251203T174638Z
LAST-MODIFIED:20251203T174638Z
UID:9549-1764612000-1764612000@batigersports.com
SUMMARY:Tigers - 8th Girls White Basketball
DESCRIPTION:Jenks White
URL:https://batigersports.com/schedule/tigers-8th-girls-white-basketball-7/
CATEGORIES:Basketball(F)
END:VEVENT
BEGIN:VEVENT
DTSTART;TZID=America/Chicago:20251201T180000
DTEND;TZID=America/Chicago:20251201T180000
DTSTAMP:20260420T193440
CREATED:20251203T174638Z
LAST-MODIFIED:20251203T174638Z
UID:9550-1764612000-1764612000@batigersports.com
SUMMARY:Tigers - 8th Girls Gold Basketball
DESCRIPTION:SS Black
URL:https://batigersports.com/schedule/tigers-8th-girls-gold-basketball-8/
CATEGORIES:Basketball(F)
END:VEVENT
BEGIN:VEVENT
DTSTART;TZID=America/Chicago:20251201T190000
DTEND;TZID=America/Chicago:20251201T190000
DTSTAMP:20260420T193440
CREATED:20251203T174638Z
LAST-MODIFIED:20251203T174638Z
UID:9551-1764615600-1764615600@batigersports.com
SUMMARY:Tigers - 8th Boys White Basketball
DESCRIPTION:Jenks Middle School Jenks White
URL:https://batigersports.com/schedule/tigers-8th-boys-white-basketball-7/
CATEGORIES:Basketball(M)
END:VEVENT
BEGIN:VEVENT
DTSTART;TZID=America/Chicago:20251201T190000
DTEND;TZID=America/Chicago:20251201T190000
DTSTAMP:20260420T193440
CREATED:20251203T174638Z
LAST-MODIFIED:20251203T174638Z
UID:9552-1764615600-1764615600@batigersports.com
SUMMARY:Tigers - 8th Boys Gold Basketball
DESCRIPTION:Carver MS Carver White
URL:https://batigersports.com/schedule/tigers-8th-boys-gold-basketball-7/
CATEGORIES:Basketball(M)
END:VEVENT
END:VCALENDAR