BEGIN:VCALENDAR
VERSION:2.0
PRODID:-//BA Tiger Sports - ECPv6.15.20//NONSGML v1.0//EN
CALSCALE:GREGORIAN
METHOD:PUBLISH
X-WR-CALNAME:BA Tiger Sports
X-ORIGINAL-URL:https://batigersports.com
X-WR-CALDESC:Events for BA Tiger Sports
REFRESH-INTERVAL;VALUE=DURATION:PT1H
X-Robots-Tag:noindex
X-PUBLISHED-TTL:PT1H
BEGIN:VTIMEZONE
TZID:America/Chicago
BEGIN:DAYLIGHT
TZOFFSETFROM:-0600
TZOFFSETTO:-0500
TZNAME:CDT
DTSTART:20250309T080000
END:DAYLIGHT
BEGIN:STANDARD
TZOFFSETFROM:-0500
TZOFFSETTO:-0600
TZNAME:CST
DTSTART:20251102T070000
END:STANDARD
BEGIN:DAYLIGHT
TZOFFSETFROM:-0600
TZOFFSETTO:-0500
TZNAME:CDT
DTSTART:20260308T080000
END:DAYLIGHT
BEGIN:STANDARD
TZOFFSETFROM:-0500
TZOFFSETTO:-0600
TZNAME:CST
DTSTART:20261101T070000
END:STANDARD
BEGIN:DAYLIGHT
TZOFFSETFROM:-0600
TZOFFSETTO:-0500
TZNAME:CDT
DTSTART:20270314T080000
END:DAYLIGHT
BEGIN:STANDARD
TZOFFSETFROM:-0500
TZOFFSETTO:-0600
TZNAME:CST
DTSTART:20271107T070000
END:STANDARD
END:VTIMEZONE
BEGIN:VEVENT
DTSTART;TZID=America/Chicago:20260115T170000
DTEND;TZID=America/Chicago:20260115T170000
DTSTAMP:20260420T175942
CREATED:20251203T174908Z
LAST-MODIFIED:20251203T174908Z
UID:9601-1768496400-1768496400@batigersports.com
SUMMARY:Tigers - 8th Girls Gold Basketball
DESCRIPTION:Sapulpa White
URL:https://batigersports.com/schedule/tigers-8th-girls-gold-basketball-11/
CATEGORIES:Basketball(F)
END:VEVENT
BEGIN:VEVENT
DTSTART;TZID=America/Chicago:20260115T180000
DTEND;TZID=America/Chicago:20260115T180000
DTSTAMP:20260420T175942
CREATED:20251203T174908Z
LAST-MODIFIED:20251203T174908Z
UID:9602-1768500000-1768500000@batigersports.com
SUMMARY:Tigers - 8th Boys Gold Basketball
DESCRIPTION:Sapulpa White
URL:https://batigersports.com/schedule/tigers-8th-boys-gold-basketball-10/
CATEGORIES:Basketball(M)
END:VEVENT
BEGIN:VEVENT
DTSTART;TZID=America/Chicago:20260115T180000
DTEND;TZID=America/Chicago:20260115T180000
DTSTAMP:20260420T175942
CREATED:20251203T174923Z
LAST-MODIFIED:20251203T174923Z
UID:9603-1768500000-1768500000@batigersports.com
SUMMARY:Tigers - Sophomore Boys Basketball
DESCRIPTION:Jenks High School Jenks
URL:https://batigersports.com/schedule/tigers-sophomore-boys-basketball-12/
CATEGORIES:Basketball(M)
END:VEVENT
BEGIN:VEVENT
DTSTART;TZID=America/Chicago:20260115T190000
DTEND;TZID=America/Chicago:20260115T190000
DTSTAMP:20260420T175942
CREATED:20251203T174923Z
LAST-MODIFIED:20251203T174923Z
UID:9604-1768503600-1768503600@batigersports.com
SUMMARY:Tigers - Freshmen Boys Gold Basketball
DESCRIPTION:Union Red
URL:https://batigersports.com/schedule/tigers-freshmen-boys-gold-basketball-15/
CATEGORIES:Basketball(M)
END:VEVENT
END:VCALENDAR