BEGIN:VCALENDAR
VERSION:2.0
PRODID:-//BA Tiger Sports - ECPv6.15.20//NONSGML v1.0//EN
CALSCALE:GREGORIAN
METHOD:PUBLISH
X-ORIGINAL-URL:https://batigersports.com
X-WR-CALDESC:Events for BA Tiger Sports
REFRESH-INTERVAL;VALUE=DURATION:PT1H
X-Robots-Tag:noindex
X-PUBLISHED-TTL:PT1H
BEGIN:VTIMEZONE
TZID:America/Chicago
BEGIN:DAYLIGHT
TZOFFSETFROM:-0600
TZOFFSETTO:-0500
TZNAME:CDT
DTSTART:20240310T080000
END:DAYLIGHT
BEGIN:STANDARD
TZOFFSETFROM:-0500
TZOFFSETTO:-0600
TZNAME:CST
DTSTART:20241103T070000
END:STANDARD
BEGIN:DAYLIGHT
TZOFFSETFROM:-0600
TZOFFSETTO:-0500
TZNAME:CDT
DTSTART:20250309T080000
END:DAYLIGHT
BEGIN:STANDARD
TZOFFSETFROM:-0500
TZOFFSETTO:-0600
TZNAME:CST
DTSTART:20251102T070000
END:STANDARD
BEGIN:DAYLIGHT
TZOFFSETFROM:-0600
TZOFFSETTO:-0500
TZNAME:CDT
DTSTART:20260308T080000
END:DAYLIGHT
BEGIN:STANDARD
TZOFFSETFROM:-0500
TZOFFSETTO:-0600
TZNAME:CST
DTSTART:20261101T070000
END:STANDARD
END:VTIMEZONE
BEGIN:VEVENT
DTSTART;TZID=America/Chicago:20250916T173000
DTEND;TZID=America/Chicago:20250916T173000
DTSTAMP:20260420T163727
CREATED:20250807T161145Z
LAST-MODIFIED:20250807T161145Z
UID:9326-1758043800-1758043800@batigersports.com
SUMMARY:Tigers - JV Volleyball
DESCRIPTION:Bartlesville High School JV Volleyball
URL:https://batigersports.com/schedule/tigers-jv-volleyball-13/
CATEGORIES:Volleyball(F)
END:VEVENT
BEGIN:VEVENT
DTSTART;TZID=America/Chicago:20250916T183000
DTEND;TZID=America/Chicago:20250916T183000
DTSTAMP:20260420T163727
CREATED:20250807T161145Z
LAST-MODIFIED:20250807T161145Z
UID:9328-1758047400-1758047400@batigersports.com
SUMMARY:Tigers - Varsity Volleyball
DESCRIPTION:Bartlesville High School Varsity Volleyball
URL:https://batigersports.com/schedule/tigers-varsity-volleyball-17/
CATEGORIES:Volleyball(F)
END:VEVENT
BEGIN:VEVENT
DTSTART;TZID=America/Chicago:20250918T163000
DTEND;TZID=America/Chicago:20250918T163000
DTSTAMP:20260420T163727
CREATED:20250807T161145Z
LAST-MODIFIED:20250807T161145Z
UID:9329-1758213000-1758213000@batigersports.com
SUMMARY:Tigers - Freshmen Volleyball
DESCRIPTION:Claremore High School 9th
URL:https://batigersports.com/schedule/tigers-freshmen-volleyball-11/
CATEGORIES:Volleyball(F)
END:VEVENT
BEGIN:VEVENT
DTSTART;TZID=America/Chicago:20250918T173000
DTEND;TZID=America/Chicago:20250918T173000
DTSTAMP:20260420T163727
CREATED:20250807T161145Z
LAST-MODIFIED:20250807T161145Z
UID:9330-1758216600-1758216600@batigersports.com
SUMMARY:Tigers - JV Volleyball
DESCRIPTION:Claremore High School JV
URL:https://batigersports.com/schedule/tigers-jv-volleyball-14/
CATEGORIES:Volleyball(F)
END:VEVENT
BEGIN:VEVENT
DTSTART;TZID=America/Chicago:20250918T183000
DTEND;TZID=America/Chicago:20250918T183000
DTSTAMP:20260420T163727
CREATED:20250807T161346Z
LAST-MODIFIED:20250807T161346Z
UID:9331-1758220200-1758220200@batigersports.com
SUMMARY:Tigers - Varsity Volleyball
DESCRIPTION:Claremore High School Varsity
URL:https://batigersports.com/schedule/tigers-varsity-volleyball-18/
CATEGORIES:Volleyball(F)
END:VEVENT
BEGIN:VEVENT
DTSTART;TZID=America/Chicago:20250919T090000
DTEND;TZID=America/Chicago:20250919T090000
DTSTAMP:20260420T163727
CREATED:20250807T161346Z
LAST-MODIFIED:20250807T161346Z
UID:9332-1758272400-1758272400@batigersports.com
SUMMARY:Tigers - JV Volleyball
DESCRIPTION:Broken Arrow JV Tournament
URL:https://batigersports.com/schedule/tigers-jv-volleyball-15/
CATEGORIES:Volleyball(F)
END:VEVENT
BEGIN:VEVENT
DTSTART;TZID=America/Chicago:20250929T163000
DTEND;TZID=America/Chicago:20250929T163000
DTSTAMP:20260420T163727
CREATED:20250807T161509Z
LAST-MODIFIED:20250807T161509Z
UID:9343-1759163400-1759163400@batigersports.com
SUMMARY:Tigers - 8th American Volleyball
DESCRIPTION:Union 8th A
URL:https://batigersports.com/schedule/tigers-8th-american-volleyball-8/
CATEGORIES:Volleyball(F)
END:VEVENT
BEGIN:VEVENT
DTSTART;TZID=America/Chicago:20250929T163000
DTEND;TZID=America/Chicago:20250929T163000
DTSTAMP:20260420T163727
CREATED:20250807T161510Z
LAST-MODIFIED:20250807T161510Z
UID:9344-1759163400-1759163400@batigersports.com
SUMMARY:Tigers - 7th American Volleyball
DESCRIPTION:Union Junior High Union 7th Red
URL:https://batigersports.com/schedule/tigers-7th-american-volleyball-8/
CATEGORIES:Volleyball(F)
END:VEVENT
BEGIN:VEVENT
DTSTART;TZID=America/Chicago:20250929T163000
DTEND;TZID=America/Chicago:20250929T163000
DTSTAMP:20260420T163727
CREATED:20250807T161510Z
LAST-MODIFIED:20250807T161510Z
UID:9345-1759163400-1759163400@batigersports.com
SUMMARY:Tigers - 7th National Volleyball
DESCRIPTION:Union Junior High Union 7th Red
URL:https://batigersports.com/schedule/tigers-7th-national-volleyball-7/
CATEGORIES:Volleyball(F)
END:VEVENT
BEGIN:VEVENT
DTSTART;TZID=America/Chicago:20250929T173000
DTEND;TZID=America/Chicago:20250929T173000
DTSTAMP:20260420T163727
CREATED:20250807T161524Z
LAST-MODIFIED:20250807T161524Z
UID:9346-1759167000-1759167000@batigersports.com
SUMMARY:Tigers - 8th National Volleyball
DESCRIPTION:Union 8th B
URL:https://batigersports.com/schedule/tigers-8th-national-volleyball-7/
CATEGORIES:Volleyball(F)
END:VEVENT
BEGIN:VEVENT
DTSTART;TZID=America/Chicago:20250929T183000
DTEND;TZID=America/Chicago:20250929T183000
DTSTAMP:20260420T163727
CREATED:20250807T161525Z
LAST-MODIFIED:20250807T161525Z
UID:9348-1759170600-1759170600@batigersports.com
SUMMARY:Tigers - 7th American Volleyball
DESCRIPTION:Sand Spring 7th
URL:https://batigersports.com/schedule/tigers-7th-american-volleyball-9/
CATEGORIES:Volleyball(F)
END:VEVENT
BEGIN:VEVENT
DTSTART;TZID=America/Chicago:20250929T193000
DTEND;TZID=America/Chicago:20250929T193000
DTSTAMP:20260420T163727
CREATED:20250807T161525Z
LAST-MODIFIED:20250807T161525Z
UID:9349-1759174200-1759174200@batigersports.com
SUMMARY:Tigers - 7th National Volleyball
DESCRIPTION:Sand Springs 7th
URL:https://batigersports.com/schedule/tigers-7th-national-volleyball-8/
CATEGORIES:Volleyball(F)
END:VEVENT
BEGIN:VEVENT
DTSTART;TZID=America/Chicago:20251006T080000
DTEND;TZID=America/Chicago:20251006T080000
DTSTAMP:20260420T163727
CREATED:20250807T161539Z
LAST-MODIFIED:20250807T161539Z
UID:9353-1759737600-1759737600@batigersports.com
SUMMARY:Tigers - 8th American Volleyball
DESCRIPTION:Conference Tournament
URL:https://batigersports.com/schedule/tigers-8th-american-volleyball-9/
CATEGORIES:Volleyball(F)
END:VEVENT
BEGIN:VEVENT
DTSTART;TZID=America/Chicago:20251006T080000
DTEND;TZID=America/Chicago:20251006T080000
DTSTAMP:20260420T163727
CREATED:20250807T161540Z
LAST-MODIFIED:20250807T161540Z
UID:9354-1759737600-1759737600@batigersports.com
SUMMARY:Tigers - 8th National Volleyball
DESCRIPTION:Conference Tournament
URL:https://batigersports.com/schedule/tigers-8th-national-volleyball-8/
CATEGORIES:Volleyball(F)
END:VEVENT
BEGIN:VEVENT
DTSTART;TZID=America/Chicago:20251007T163000
DTEND;TZID=America/Chicago:20251007T163000
DTSTAMP:20260420T163727
CREATED:20250807T161554Z
LAST-MODIFIED:20250807T161554Z
UID:9358-1759854600-1759854600@batigersports.com
SUMMARY:Tigers - Freshmen Volleyball
DESCRIPTION:Booker T. Washington HS Booker T. Washington
URL:https://batigersports.com/schedule/tigers-freshmen-volleyball-12/
CATEGORIES:Volleyball(F)
END:VEVENT
BEGIN:VEVENT
DTSTART;TZID=America/Chicago:20251007T173000
DTEND;TZID=America/Chicago:20251007T173000
DTSTAMP:20260420T163727
CREATED:20250807T161555Z
LAST-MODIFIED:20250807T161555Z
UID:9359-1759858200-1759858200@batigersports.com
SUMMARY:Tigers - JV Volleyball
DESCRIPTION:Booker T. Washington HS Booker T. Washington
URL:https://batigersports.com/schedule/tigers-jv-volleyball-16/
CATEGORIES:Volleyball(F)
END:VEVENT
BEGIN:VEVENT
DTSTART;TZID=America/Chicago:20251007T183000
DTEND;TZID=America/Chicago:20251007T183000
DTSTAMP:20260420T163727
CREATED:20250807T161555Z
LAST-MODIFIED:20250807T161555Z
UID:9360-1759861800-1759861800@batigersports.com
SUMMARY:Tigers - Varsity Volleyball
DESCRIPTION:Booker T. Washington HS Booker T. Washington
URL:https://batigersports.com/schedule/tigers-varsity-volleyball-19/
CATEGORIES:Volleyball(F)
END:VEVENT
BEGIN:VEVENT
DTSTART;TZID=America/Chicago:20251014T160000
DTEND;TZID=America/Chicago:20251014T160000
DTSTAMP:20260420T163727
CREATED:20250807T161609Z
LAST-MODIFIED:20250807T161609Z
UID:9364-1760457600-1760457600@batigersports.com
SUMMARY:Tigers - Varsity Volleyball
DESCRIPTION:TBA
URL:https://batigersports.com/schedule/tigers-varsity-volleyball-20/
CATEGORIES:Volleyball(F)
END:VEVENT
BEGIN:VEVENT
DTSTART;TZID=America/Chicago:20251014T173000
DTEND;TZID=America/Chicago:20251014T173000
DTSTAMP:20260420T163727
CREATED:20250807T161609Z
LAST-MODIFIED:20250807T161609Z
UID:9365-1760463000-1760463000@batigersports.com
SUMMARY:Tigers - Varsity Volleyball
DESCRIPTION:TBA
URL:https://batigersports.com/schedule/tigers-varsity-volleyball-21/
CATEGORIES:Volleyball(F)
END:VEVENT
BEGIN:VEVENT
DTSTART;TZID=America/Chicago:20251014T190000
DTEND;TZID=America/Chicago:20251014T190000
DTSTAMP:20260420T163727
CREATED:20250807T161624Z
LAST-MODIFIED:20250807T161624Z
UID:9367-1760468400-1760468400@batigersports.com
SUMMARY:Tigers - Varsity Volleyball
DESCRIPTION:TBA
URL:https://batigersports.com/schedule/tigers-varsity-volleyball-22/
CATEGORIES:Volleyball(F)
END:VEVENT
END:VCALENDAR