BEGIN:VCALENDAR
VERSION:2.0
PRODID:-//BA Tiger Sports - ECPv6.15.20//NONSGML v1.0//EN
CALSCALE:GREGORIAN
METHOD:PUBLISH
X-WR-CALNAME:BA Tiger Sports
X-ORIGINAL-URL:https://batigersports.com
X-WR-CALDESC:Events for BA Tiger Sports
REFRESH-INTERVAL;VALUE=DURATION:PT1H
X-Robots-Tag:noindex
X-PUBLISHED-TTL:PT1H
BEGIN:VTIMEZONE
TZID:America/Chicago
BEGIN:DAYLIGHT
TZOFFSETFROM:-0600
TZOFFSETTO:-0500
TZNAME:CDT
DTSTART:20240310T080000
END:DAYLIGHT
BEGIN:STANDARD
TZOFFSETFROM:-0500
TZOFFSETTO:-0600
TZNAME:CST
DTSTART:20241103T070000
END:STANDARD
BEGIN:DAYLIGHT
TZOFFSETFROM:-0600
TZOFFSETTO:-0500
TZNAME:CDT
DTSTART:20250309T080000
END:DAYLIGHT
BEGIN:STANDARD
TZOFFSETFROM:-0500
TZOFFSETTO:-0600
TZNAME:CST
DTSTART:20251102T070000
END:STANDARD
BEGIN:DAYLIGHT
TZOFFSETFROM:-0600
TZOFFSETTO:-0500
TZNAME:CDT
DTSTART:20260308T080000
END:DAYLIGHT
BEGIN:STANDARD
TZOFFSETFROM:-0500
TZOFFSETTO:-0600
TZNAME:CST
DTSTART:20261101T070000
END:STANDARD
END:VTIMEZONE
BEGIN:VEVENT
DTSTART;TZID=America/Chicago:20250911T163000
DTEND;TZID=America/Chicago:20250911T163000
DTSTAMP:20260421T035044
CREATED:20250807T160712Z
LAST-MODIFIED:20250807T160712Z
UID:9308-1757608200-1757608200@batigersports.com
SUMMARY:Tigers - Freshmen Volleyball
DESCRIPTION:Moore High School 9th
URL:https://batigersports.com/schedule/tigers-freshmen-volleyball-9/
CATEGORIES:Volleyball(F)
END:VEVENT
BEGIN:VEVENT
DTSTART;TZID=America/Chicago:20250911T173000
DTEND;TZID=America/Chicago:20250911T173000
DTSTAMP:20260421T035044
CREATED:20250807T160712Z
LAST-MODIFIED:20250807T160712Z
UID:9309-1757611800-1757611800@batigersports.com
SUMMARY:Lady Tigers - JV Black FP Softball
DESCRIPTION:Dewey
URL:https://batigersports.com/schedule/lady-tigers-jv-black-fp-softball-21/
CATEGORIES:Softball(F)
END:VEVENT
BEGIN:VEVENT
DTSTART;TZID=America/Chicago:20250911T173000
DTEND;TZID=America/Chicago:20250911T173000
DTSTAMP:20260421T035044
CREATED:20250807T160727Z
LAST-MODIFIED:20250807T160727Z
UID:9310-1757611800-1757611800@batigersports.com
SUMMARY:Tigers - JV Volleyball
DESCRIPTION:Moore High School JV
URL:https://batigersports.com/schedule/tigers-jv-volleyball-12/
CATEGORIES:Volleyball(F)
END:VEVENT
BEGIN:VEVENT
DTSTART;TZID=America/Chicago:20250911T183000
DTEND;TZID=America/Chicago:20250911T183000
DTSTAMP:20260421T035044
CREATED:20250807T160727Z
LAST-MODIFIED:20250807T160727Z
UID:9311-1757615400-1757615400@batigersports.com
SUMMARY:Tigers - Varsity Volleyball
DESCRIPTION:Moore High School
URL:https://batigersports.com/schedule/tigers-varsity-volleyball-16/
CATEGORIES:Volleyball(F)
END:VEVENT
BEGIN:VEVENT
DTSTART;TZID=America/Chicago:20250911T190000
DTEND;TZID=America/Chicago:20250911T190000
DTSTAMP:20260421T035044
CREATED:20250807T160727Z
LAST-MODIFIED:20250807T160727Z
UID:9312-1757617200-1757617200@batigersports.com
SUMMARY:Lady Tigers - Varsity FP Softball
DESCRIPTION:Dewey
URL:https://batigersports.com/schedule/lady-tigers-varsity-fp-softball-23/
CATEGORIES:Softball(F)
END:VEVENT
BEGIN:VEVENT
DTSTART;TZID=America/Chicago:20250912T190000
DTEND;TZID=America/Chicago:20250912T190000
DTSTAMP:20260421T035044
CREATED:20250807T160727Z
LAST-MODIFIED:20250807T160727Z
UID:9313-1757703600-1757703600@batigersports.com
SUMMARY:Tigers - Varsity Football
DESCRIPTION:Mustang High School Mustang
URL:https://batigersports.com/schedule/tigers-varsity-football-18/
CATEGORIES:Football(M)
END:VEVENT
BEGIN:VEVENT
DTSTART;TZID=America/Chicago:20250915T170000
DTEND;TZID=America/Chicago:20250915T170000
DTSTAMP:20260421T035044
CREATED:20250807T160727Z
LAST-MODIFIED:20250807T160727Z
UID:9314-1757955600-1757955600@batigersports.com
SUMMARY:Tigers - 8th American Volleyball
DESCRIPTION:Union Junior High Union 8th White
URL:https://batigersports.com/schedule/tigers-8th-american-volleyball-6/
CATEGORIES:Volleyball(F)
END:VEVENT
BEGIN:VEVENT
DTSTART;TZID=America/Chicago:20250915T170000
DTEND;TZID=America/Chicago:20250915T170000
DTSTAMP:20260421T035044
CREATED:20250807T160743Z
LAST-MODIFIED:20250807T160743Z
UID:9315-1757955600-1757955600@batigersports.com
SUMMARY:Tigers - 8th National Volleyball
DESCRIPTION:Sand Springs 8th
URL:https://batigersports.com/schedule/tigers-8th-national-volleyball-5/
CATEGORIES:Volleyball(F)
END:VEVENT
BEGIN:VEVENT
DTSTART;TZID=America/Chicago:20250915T170000
DTEND;TZID=America/Chicago:20250915T170000
DTSTAMP:20260421T035044
CREATED:20250807T160743Z
LAST-MODIFIED:20250807T160743Z
UID:9316-1757955600-1757955600@batigersports.com
SUMMARY:Tigers - 7th American Volleyball
DESCRIPTION:Sand Springs 7th
URL:https://batigersports.com/schedule/tigers-7th-american-volleyball-6/
CATEGORIES:Volleyball(F)
END:VEVENT
BEGIN:VEVENT
DTSTART;TZID=America/Chicago:20250915T173000
DTEND;TZID=America/Chicago:20250915T173000
DTSTAMP:20260421T035044
CREATED:20250807T160743Z
LAST-MODIFIED:20250807T160743Z
UID:9317-1757957400-1757957400@batigersports.com
SUMMARY:Lady Tigers - JV Black FP Softball
DESCRIPTION:Sand Springs
URL:https://batigersports.com/schedule/lady-tigers-jv-black-fp-softball-22/
CATEGORIES:Softball(F)
END:VEVENT
BEGIN:VEVENT
DTSTART;TZID=America/Chicago:20250915T180000
DTEND;TZID=America/Chicago:20250915T180000
DTSTAMP:20260421T035044
CREATED:20250807T160743Z
LAST-MODIFIED:20250807T160743Z
UID:9318-1757959200-1757959200@batigersports.com
SUMMARY:Tigers - 8th American Volleyball
DESCRIPTION:Union Junior High Union 8th Red
URL:https://batigersports.com/schedule/tigers-8th-american-volleyball-7/
CATEGORIES:Volleyball(F)
END:VEVENT
BEGIN:VEVENT
DTSTART;TZID=America/Chicago:20250915T180000
DTEND;TZID=America/Chicago:20250915T180000
DTSTAMP:20260421T035044
CREATED:20250807T160743Z
LAST-MODIFIED:20250807T160743Z
UID:9319-1757959200-1757959200@batigersports.com
SUMMARY:Tigers - 8th National Volleyball
DESCRIPTION:Union Junior High Union 8th White
URL:https://batigersports.com/schedule/tigers-8th-national-volleyball-6/
CATEGORIES:Volleyball(F)
END:VEVENT
BEGIN:VEVENT
DTSTART;TZID=America/Chicago:20250915T180000
DTEND;TZID=America/Chicago:20250915T180000
DTSTAMP:20260421T035044
CREATED:20250807T160944Z
LAST-MODIFIED:20250807T160944Z
UID:9320-1757959200-1757959200@batigersports.com
SUMMARY:Tigers - 7th National Volleyball
DESCRIPTION:Union Junior High Union 7th Red
URL:https://batigersports.com/schedule/tigers-7th-national-volleyball-5/
CATEGORIES:Volleyball(F)
END:VEVENT
BEGIN:VEVENT
DTSTART;TZID=America/Chicago:20250915T190000
DTEND;TZID=America/Chicago:20250915T190000
DTSTAMP:20260421T035044
CREATED:20250807T160944Z
LAST-MODIFIED:20250807T160944Z
UID:9321-1757962800-1757962800@batigersports.com
SUMMARY:Lady Tigers - Varsity FP Softball
DESCRIPTION:Sand Springs
URL:https://batigersports.com/schedule/lady-tigers-varsity-fp-softball-24/
CATEGORIES:Softball(F)
END:VEVENT
BEGIN:VEVENT
DTSTART;TZID=America/Chicago:20250915T190000
DTEND;TZID=America/Chicago:20250915T190000
DTSTAMP:20260421T035044
CREATED:20250807T160944Z
LAST-MODIFIED:20250807T160944Z
UID:9322-1757962800-1757962800@batigersports.com
SUMMARY:Tigers - 7th American Volleyball
DESCRIPTION:Union Junior High Union 7th Red
URL:https://batigersports.com/schedule/tigers-7th-american-volleyball-7/
CATEGORIES:Volleyball(F)
END:VEVENT
BEGIN:VEVENT
DTSTART;TZID=America/Chicago:20250915T190000
DTEND;TZID=America/Chicago:20250915T190000
DTSTAMP:20260421T035044
CREATED:20250807T160944Z
LAST-MODIFIED:20250807T160944Z
UID:9323-1757962800-1757962800@batigersports.com
SUMMARY:Tigers - 7th National Volleyball
DESCRIPTION:Sand Springs 7th
URL:https://batigersports.com/schedule/tigers-7th-national-volleyball-6/
CATEGORIES:Volleyball(F)
END:VEVENT
BEGIN:VEVENT
DTSTART;TZID=America/Chicago:20250916T163000
DTEND;TZID=America/Chicago:20250916T163000
DTSTAMP:20260421T035044
CREATED:20250807T160944Z
LAST-MODIFIED:20250807T160944Z
UID:9324-1758040200-1758040200@batigersports.com
SUMMARY:Tigers - Freshmen Volleyball
DESCRIPTION:Bartlesville High School Freshman Volleyball
URL:https://batigersports.com/schedule/tigers-freshmen-volleyball-10/
CATEGORIES:Volleyball(F)
END:VEVENT
BEGIN:VEVENT
DTSTART;TZID=America/Chicago:20250916T173000
DTEND;TZID=America/Chicago:20250916T173000
DTSTAMP:20260421T035044
CREATED:20250807T161145Z
LAST-MODIFIED:20250807T161145Z
UID:9326-1758043800-1758043800@batigersports.com
SUMMARY:Tigers - JV Volleyball
DESCRIPTION:Bartlesville High School JV Volleyball
URL:https://batigersports.com/schedule/tigers-jv-volleyball-13/
CATEGORIES:Volleyball(F)
END:VEVENT
BEGIN:VEVENT
DTSTART;TZID=America/Chicago:20250916T180000
DTEND;TZID=America/Chicago:20250916T180000
DTSTAMP:20260421T035044
CREATED:20250807T161145Z
LAST-MODIFIED:20250807T161145Z
UID:9327-1758045600-1758045600@batigersports.com
SUMMARY:Tigers - Freshmen Black Football
DESCRIPTION:Sand Springs HS 9th Football
URL:https://batigersports.com/schedule/tigers-freshmen-black-football-9/
CATEGORIES:Football(M)
END:VEVENT
BEGIN:VEVENT
DTSTART;TZID=America/Chicago:20250916T183000
DTEND;TZID=America/Chicago:20250916T183000
DTSTAMP:20260421T035044
CREATED:20250807T161145Z
LAST-MODIFIED:20250807T161145Z
UID:9328-1758047400-1758047400@batigersports.com
SUMMARY:Tigers - Varsity Volleyball
DESCRIPTION:Bartlesville High School Varsity Volleyball
URL:https://batigersports.com/schedule/tigers-varsity-volleyball-17/
CATEGORIES:Volleyball(F)
END:VEVENT
BEGIN:VEVENT
DTSTART;TZID=America/Chicago:20250918T163000
DTEND;TZID=America/Chicago:20250918T163000
DTSTAMP:20260421T035044
CREATED:20250807T161145Z
LAST-MODIFIED:20250807T161145Z
UID:9329-1758213000-1758213000@batigersports.com
SUMMARY:Tigers - Freshmen Volleyball
DESCRIPTION:Claremore High School 9th
URL:https://batigersports.com/schedule/tigers-freshmen-volleyball-11/
CATEGORIES:Volleyball(F)
END:VEVENT
BEGIN:VEVENT
DTSTART;TZID=America/Chicago:20250918T173000
DTEND;TZID=America/Chicago:20250918T173000
DTSTAMP:20260421T035044
CREATED:20250807T161145Z
LAST-MODIFIED:20250807T161145Z
UID:9330-1758216600-1758216600@batigersports.com
SUMMARY:Tigers - JV Volleyball
DESCRIPTION:Claremore High School JV
URL:https://batigersports.com/schedule/tigers-jv-volleyball-14/
CATEGORIES:Volleyball(F)
END:VEVENT
BEGIN:VEVENT
DTSTART;TZID=America/Chicago:20250918T183000
DTEND;TZID=America/Chicago:20250918T183000
DTSTAMP:20260421T035044
CREATED:20250807T161346Z
LAST-MODIFIED:20250807T161346Z
UID:9331-1758220200-1758220200@batigersports.com
SUMMARY:Tigers - Varsity Volleyball
DESCRIPTION:Claremore High School Varsity
URL:https://batigersports.com/schedule/tigers-varsity-volleyball-18/
CATEGORIES:Volleyball(F)
END:VEVENT
BEGIN:VEVENT
DTSTART;TZID=America/Chicago:20250919T090000
DTEND;TZID=America/Chicago:20250919T090000
DTSTAMP:20260421T035044
CREATED:20250807T161346Z
LAST-MODIFIED:20250807T161346Z
UID:9332-1758272400-1758272400@batigersports.com
SUMMARY:Tigers - JV Volleyball
DESCRIPTION:Broken Arrow JV Tournament
URL:https://batigersports.com/schedule/tigers-jv-volleyball-15/
CATEGORIES:Volleyball(F)
END:VEVENT
BEGIN:VEVENT
DTSTART;TZID=America/Chicago:20250922T180000
DTEND;TZID=America/Chicago:20250922T180000
DTSTAMP:20260421T035044
CREATED:20250807T161346Z
LAST-MODIFIED:20250807T161346Z
UID:9333-1758564000-1758564000@batigersports.com
SUMMARY:Tigers - 8th FP Softball
DESCRIPTION:Sand Springs
URL:https://batigersports.com/schedule/tigers-8th-fp-softball-13/
CATEGORIES:Softball(F)
END:VEVENT
BEGIN:VEVENT
DTSTART;TZID=America/Chicago:20250922T180000
DTEND;TZID=America/Chicago:20250922T180000
DTSTAMP:20260421T035044
CREATED:20250807T161348Z
LAST-MODIFIED:20250807T161348Z
UID:9334-1758564000-1758564000@batigersports.com
SUMMARY:Tigers - 8th Gold Football
DESCRIPTION:Owasso White
URL:https://batigersports.com/schedule/tigers-8th-gold-football/
CATEGORIES:Football(M)
END:VEVENT
BEGIN:VEVENT
DTSTART;TZID=America/Chicago:20250922T193000
DTEND;TZID=America/Chicago:20250922T193000
DTSTAMP:20260421T035044
CREATED:20250807T161349Z
LAST-MODIFIED:20250807T161349Z
UID:9335-1758569400-1758569400@batigersports.com
SUMMARY:Tigers - Freshmen Gold Football
DESCRIPTION:Owasso High School Owasso Rams White
URL:https://batigersports.com/schedule/tigers-freshmen-gold-football-9/
CATEGORIES:Football(M)
END:VEVENT
BEGIN:VEVENT
DTSTART;TZID=America/Chicago:20250923T173000
DTEND;TZID=America/Chicago:20250923T173000
DTSTAMP:20260421T035044
CREATED:20250807T161454Z
LAST-MODIFIED:20250807T161454Z
UID:9336-1758648600-1758648600@batigersports.com
SUMMARY:Lady Tigers - JV Black FP Softball
DESCRIPTION:Sapulpa
URL:https://batigersports.com/schedule/lady-tigers-jv-black-fp-softball-23/
CATEGORIES:Softball(F)
END:VEVENT
BEGIN:VEVENT
DTSTART;TZID=America/Chicago:20250923T180000
DTEND;TZID=America/Chicago:20250923T180000
DTSTAMP:20260421T035044
CREATED:20250807T161454Z
LAST-MODIFIED:20250807T161454Z
UID:9337-1758650400-1758650400@batigersports.com
SUMMARY:Tigers - 8th Black Football
DESCRIPTION:Owasso Red
URL:https://batigersports.com/schedule/tigers-8th-black-football-2/
CATEGORIES:Football(M)
END:VEVENT
BEGIN:VEVENT
DTSTART;TZID=America/Chicago:20250923T190000
DTEND;TZID=America/Chicago:20250923T190000
DTSTAMP:20260421T035044
CREATED:20250807T161455Z
LAST-MODIFIED:20250807T161455Z
UID:9338-1758654000-1758654000@batigersports.com
SUMMARY:Lady Tigers - Varsity FP Softball
DESCRIPTION:Sapulpa
URL:https://batigersports.com/schedule/lady-tigers-varsity-fp-softball-25/
CATEGORIES:Softball(F)
END:VEVENT
END:VCALENDAR