BEGIN:VCALENDAR
VERSION:2.0
PRODID:-//BA Tiger Sports - ECPv6.15.20//NONSGML v1.0//EN
CALSCALE:GREGORIAN
METHOD:PUBLISH
X-WR-CALNAME:BA Tiger Sports
X-ORIGINAL-URL:https://batigersports.com
X-WR-CALDESC:Events for BA Tiger Sports
REFRESH-INTERVAL;VALUE=DURATION:PT1H
X-Robots-Tag:noindex
X-PUBLISHED-TTL:PT1H
BEGIN:VTIMEZONE
TZID:America/Chicago
BEGIN:DAYLIGHT
TZOFFSETFROM:-0600
TZOFFSETTO:-0500
TZNAME:CDT
DTSTART:20240310T080000
END:DAYLIGHT
BEGIN:STANDARD
TZOFFSETFROM:-0500
TZOFFSETTO:-0600
TZNAME:CST
DTSTART:20241103T070000
END:STANDARD
BEGIN:DAYLIGHT
TZOFFSETFROM:-0600
TZOFFSETTO:-0500
TZNAME:CDT
DTSTART:20250309T080000
END:DAYLIGHT
BEGIN:STANDARD
TZOFFSETFROM:-0500
TZOFFSETTO:-0600
TZNAME:CST
DTSTART:20251102T070000
END:STANDARD
BEGIN:DAYLIGHT
TZOFFSETFROM:-0600
TZOFFSETTO:-0500
TZNAME:CDT
DTSTART:20260308T080000
END:DAYLIGHT
BEGIN:STANDARD
TZOFFSETFROM:-0500
TZOFFSETTO:-0600
TZNAME:CST
DTSTART:20261101T070000
END:STANDARD
END:VTIMEZONE
BEGIN:VEVENT
DTSTART;TZID=America/Chicago:20251002T173000
DTEND;TZID=America/Chicago:20251002T173000
DTSTAMP:20260420T225617
CREATED:20250807T161539Z
LAST-MODIFIED:20250807T161539Z
UID:9351-1759426200-1759426200@batigersports.com
SUMMARY:Lady Tigers - JV Black FP Softball
DESCRIPTION:Owasso
URL:https://batigersports.com/schedule/lady-tigers-jv-black-fp-softball-25/
CATEGORIES:Softball(F)
END:VEVENT
BEGIN:VEVENT
DTSTART;TZID=America/Chicago:20251002T190000
DTEND;TZID=America/Chicago:20251002T190000
DTSTAMP:20260420T225617
CREATED:20250807T161539Z
LAST-MODIFIED:20250807T161539Z
UID:9352-1759431600-1759431600@batigersports.com
SUMMARY:Lady Tigers - Varsity FP Softball
DESCRIPTION:Owasso
URL:https://batigersports.com/schedule/lady-tigers-varsity-fp-softball-27/
CATEGORIES:Softball(F)
END:VEVENT
BEGIN:VEVENT
DTSTART;TZID=America/Chicago:20251006T080000
DTEND;TZID=America/Chicago:20251006T080000
DTSTAMP:20260420T225617
CREATED:20250807T161539Z
LAST-MODIFIED:20250807T161539Z
UID:9353-1759737600-1759737600@batigersports.com
SUMMARY:Tigers - 8th American Volleyball
DESCRIPTION:Conference Tournament
URL:https://batigersports.com/schedule/tigers-8th-american-volleyball-9/
CATEGORIES:Volleyball(F)
END:VEVENT
BEGIN:VEVENT
DTSTART;TZID=America/Chicago:20251006T080000
DTEND;TZID=America/Chicago:20251006T080000
DTSTAMP:20260420T225617
CREATED:20250807T161540Z
LAST-MODIFIED:20250807T161540Z
UID:9354-1759737600-1759737600@batigersports.com
SUMMARY:Tigers - 8th National Volleyball
DESCRIPTION:Conference Tournament
URL:https://batigersports.com/schedule/tigers-8th-national-volleyball-8/
CATEGORIES:Volleyball(F)
END:VEVENT
BEGIN:VEVENT
DTSTART;TZID=America/Chicago:20251006T180000
DTEND;TZID=America/Chicago:20251006T180000
DTSTAMP:20260420T225617
CREATED:20250807T161540Z
LAST-MODIFIED:20250807T161540Z
UID:9355-1759773600-1759773600@batigersports.com
SUMMARY:Tigers - JV Football Black
DESCRIPTION:Muskogee High School (9-12) Muskogee
URL:https://batigersports.com/schedule/tigers-jv-football-black-2/
CATEGORIES:Football(M)
END:VEVENT
BEGIN:VEVENT
DTSTART;TZID=America/Chicago:20251006T180000
DTEND;TZID=America/Chicago:20251006T180000
DTSTAMP:20260420T225617
CREATED:20250807T161554Z
LAST-MODIFIED:20250807T161554Z
UID:9356-1759773600-1759773600@batigersports.com
SUMMARY:Tigers - 8th Gold Football
DESCRIPTION:Union White
URL:https://batigersports.com/schedule/tigers-8th-gold-football-2/
CATEGORIES:Football(M)
END:VEVENT
BEGIN:VEVENT
DTSTART;TZID=America/Chicago:20251006T193000
DTEND;TZID=America/Chicago:20251006T193000
DTSTAMP:20260420T225617
CREATED:20250807T161554Z
LAST-MODIFIED:20250807T161554Z
UID:9357-1759779000-1759779000@batigersports.com
SUMMARY:Tigers - Freshmen Gold Football
DESCRIPTION:Union High School Union 9th White
URL:https://batigersports.com/schedule/tigers-freshmen-gold-football-10/
CATEGORIES:Football(M)
END:VEVENT
BEGIN:VEVENT
DTSTART;TZID=America/Chicago:20251007T163000
DTEND;TZID=America/Chicago:20251007T163000
DTSTAMP:20260420T225617
CREATED:20250807T161554Z
LAST-MODIFIED:20250807T161554Z
UID:9358-1759854600-1759854600@batigersports.com
SUMMARY:Tigers - Freshmen Volleyball
DESCRIPTION:Booker T. Washington HS Booker T. Washington
URL:https://batigersports.com/schedule/tigers-freshmen-volleyball-12/
CATEGORIES:Volleyball(F)
END:VEVENT
BEGIN:VEVENT
DTSTART;TZID=America/Chicago:20251007T173000
DTEND;TZID=America/Chicago:20251007T173000
DTSTAMP:20260420T225617
CREATED:20250807T161555Z
LAST-MODIFIED:20250807T161555Z
UID:9359-1759858200-1759858200@batigersports.com
SUMMARY:Tigers - JV Volleyball
DESCRIPTION:Booker T. Washington HS Booker T. Washington
URL:https://batigersports.com/schedule/tigers-jv-volleyball-16/
CATEGORIES:Volleyball(F)
END:VEVENT
BEGIN:VEVENT
DTSTART;TZID=America/Chicago:20251007T183000
DTEND;TZID=America/Chicago:20251007T183000
DTSTAMP:20260420T225617
CREATED:20250807T161555Z
LAST-MODIFIED:20250807T161555Z
UID:9360-1759861800-1759861800@batigersports.com
SUMMARY:Tigers - Varsity Volleyball
DESCRIPTION:Booker T. Washington HS Booker T. Washington
URL:https://batigersports.com/schedule/tigers-varsity-volleyball-19/
CATEGORIES:Volleyball(F)
END:VEVENT
BEGIN:VEVENT
DTSTART;TZID=America/Chicago:20251010T190000
DTEND;TZID=America/Chicago:20251010T190000
DTSTAMP:20260420T225617
CREATED:20250807T161609Z
LAST-MODIFIED:20250807T161609Z
UID:9361-1760122800-1760122800@batigersports.com
SUMMARY:Tigers - Varsity Football
DESCRIPTION:Edmond Santa Fe HS Santa Fe
URL:https://batigersports.com/schedule/tigers-varsity-football-20/
CATEGORIES:Football(M)
END:VEVENT
BEGIN:VEVENT
DTSTART;TZID=America/Chicago:20251013T180000
DTEND;TZID=America/Chicago:20251013T180000
DTSTAMP:20260420T225617
CREATED:20250807T161609Z
LAST-MODIFIED:20250807T161609Z
UID:9362-1760378400-1760378400@batigersports.com
SUMMARY:Tigers - 8th Gold Football
DESCRIPTION:Bixby Red
URL:https://batigersports.com/schedule/tigers-8th-gold-football-3/
CATEGORIES:Football(M)
END:VEVENT
BEGIN:VEVENT
DTSTART;TZID=America/Chicago:20251013T193000
DTEND;TZID=America/Chicago:20251013T193000
DTSTAMP:20260420T225617
CREATED:20250807T161609Z
LAST-MODIFIED:20250807T161609Z
UID:9363-1760383800-1760383800@batigersports.com
SUMMARY:Tigers - Freshmen Gold Football
DESCRIPTION:Bixby High School HS: Football(M) Red
URL:https://batigersports.com/schedule/tigers-freshmen-gold-football-11/
CATEGORIES:Football(M)
END:VEVENT
BEGIN:VEVENT
DTSTART;TZID=America/Chicago:20251014T160000
DTEND;TZID=America/Chicago:20251014T160000
DTSTAMP:20260420T225617
CREATED:20250807T161609Z
LAST-MODIFIED:20250807T161609Z
UID:9364-1760457600-1760457600@batigersports.com
SUMMARY:Tigers - Varsity Volleyball
DESCRIPTION:TBA
URL:https://batigersports.com/schedule/tigers-varsity-volleyball-20/
CATEGORIES:Volleyball(F)
END:VEVENT
BEGIN:VEVENT
DTSTART;TZID=America/Chicago:20251014T173000
DTEND;TZID=America/Chicago:20251014T173000
DTSTAMP:20260420T225617
CREATED:20250807T161609Z
LAST-MODIFIED:20250807T161609Z
UID:9365-1760463000-1760463000@batigersports.com
SUMMARY:Tigers - Varsity Volleyball
DESCRIPTION:TBA
URL:https://batigersports.com/schedule/tigers-varsity-volleyball-21/
CATEGORIES:Volleyball(F)
END:VEVENT
BEGIN:VEVENT
DTSTART;TZID=America/Chicago:20251014T180000
DTEND;TZID=America/Chicago:20251014T180000
DTSTAMP:20260420T225617
CREATED:20250807T161624Z
LAST-MODIFIED:20250807T161624Z
UID:9366-1760464800-1760464800@batigersports.com
SUMMARY:Tigers - 8th Black Football
DESCRIPTION:Bixby Blue
URL:https://batigersports.com/schedule/tigers-8th-black-football-3/
CATEGORIES:Football(M)
END:VEVENT
BEGIN:VEVENT
DTSTART;TZID=America/Chicago:20251014T190000
DTEND;TZID=America/Chicago:20251014T190000
DTSTAMP:20260420T225617
CREATED:20250807T161624Z
LAST-MODIFIED:20250807T161624Z
UID:9367-1760468400-1760468400@batigersports.com
SUMMARY:Tigers - Varsity Volleyball
DESCRIPTION:TBA
URL:https://batigersports.com/schedule/tigers-varsity-volleyball-22/
CATEGORIES:Volleyball(F)
END:VEVENT
BEGIN:VEVENT
DTSTART;TZID=America/Chicago:20251014T193000
DTEND;TZID=America/Chicago:20251014T193000
DTSTAMP:20260420T225617
CREATED:20250807T161624Z
LAST-MODIFIED:20250807T161624Z
UID:9368-1760470200-1760470200@batigersports.com
SUMMARY:Tigers - Freshmen Black Football
DESCRIPTION:Bixby High School HS: Football(M) Blue
URL:https://batigersports.com/schedule/tigers-freshmen-black-football-11/
CATEGORIES:Football(M)
END:VEVENT
BEGIN:VEVENT
DTSTART;TZID=America/Chicago:20251020T180000
DTEND;TZID=America/Chicago:20251020T180000
DTSTAMP:20260420T225617
CREATED:20250807T161624Z
LAST-MODIFIED:20250807T161624Z
UID:9369-1760983200-1760983200@batigersports.com
SUMMARY:Tigers - 8th Gold Football
DESCRIPTION:Bixby White
URL:https://batigersports.com/schedule/tigers-8th-gold-football-4/
CATEGORIES:Football(M)
END:VEVENT
BEGIN:VEVENT
DTSTART;TZID=America/Chicago:20251020T193000
DTEND;TZID=America/Chicago:20251020T193000
DTSTAMP:20260420T225617
CREATED:20250807T161625Z
LAST-MODIFIED:20250807T161625Z
UID:9370-1760988600-1760988600@batigersports.com
SUMMARY:Tigers - Freshmen Gold Football
DESCRIPTION:Bixby High School HS: Football(M)-White
URL:https://batigersports.com/schedule/tigers-freshmen-gold-football-12/
CATEGORIES:Football(M)
END:VEVENT
BEGIN:VEVENT
DTSTART;TZID=America/Chicago:20251024T190000
DTEND;TZID=America/Chicago:20251024T190000
DTSTAMP:20260420T225617
CREATED:20250807T161639Z
LAST-MODIFIED:20250807T161639Z
UID:9371-1761332400-1761332400@batigersports.com
SUMMARY:Tigers - Varsity Football
DESCRIPTION:Union High School Union Varsity
URL:https://batigersports.com/schedule/tigers-varsity-football-21/
CATEGORIES:Football(M)
END:VEVENT
BEGIN:VEVENT
DTSTART;TZID=America/Chicago:20251025T080000
DTEND;TZID=America/Chicago:20251025T080000
DTSTAMP:20260420T225617
CREATED:20251203T174533Z
LAST-MODIFIED:20251203T174533Z
UID:9524-1761379200-1761379200@batigersports.com
SUMMARY:Tigers - Varsity Boys Tennis
DESCRIPTION:Booker T.W.\, Ponca City
URL:https://batigersports.com/schedule/tigers-varsity-boys-tennis-6/
CATEGORIES:Tennis(M)
END:VEVENT
BEGIN:VEVENT
DTSTART;TZID=America/Chicago:20251104T180000
DTEND;TZID=America/Chicago:20251104T180000
DTSTAMP:20260420T225617
CREATED:20250807T161639Z
LAST-MODIFIED:20250807T161639Z
UID:9372-1762279200-1762279200@batigersports.com
SUMMARY:Tigers - 8th Black Football
DESCRIPTION:Jenks Maroon
URL:https://batigersports.com/schedule/tigers-8th-black-football-4/
CATEGORIES:Football(M)
END:VEVENT
BEGIN:VEVENT
DTSTART;TZID=America/Chicago:20251104T193000
DTEND;TZID=America/Chicago:20251104T193000
DTSTAMP:20260420T225617
CREATED:20250807T161639Z
LAST-MODIFIED:20250807T161639Z
UID:9373-1762284600-1762284600@batigersports.com
SUMMARY:Tigers - Freshmen Black Football
DESCRIPTION:Jenks High School Jenks Maroon
URL:https://batigersports.com/schedule/tigers-freshmen-black-football-12/
CATEGORIES:Football(M)
END:VEVENT
BEGIN:VEVENT
DTSTART;TZID=America/Chicago:20251107T190000
DTEND;TZID=America/Chicago:20251107T190000
DTSTAMP:20260420T225617
CREATED:20250807T161639Z
LAST-MODIFIED:20250807T161639Z
UID:9374-1762542000-1762542000@batigersports.com
SUMMARY:Tigers - Varsity Football
DESCRIPTION:Westmoore High School Westmoore
URL:https://batigersports.com/schedule/tigers-varsity-football-22/
CATEGORIES:Football(M)
END:VEVENT
BEGIN:VEVENT
DTSTART;TZID=America/Chicago:20251110T180000
DTEND;TZID=America/Chicago:20251110T180000
DTSTAMP:20260420T225617
CREATED:20251203T174533Z
LAST-MODIFIED:20251203T174533Z
UID:9526-1762797600-1762797600@batigersports.com
SUMMARY:Tigers - 8th Girls White Basketball
DESCRIPTION:SS Black
URL:https://batigersports.com/schedule/tigers-8th-girls-white-basketball-6/
CATEGORIES:Basketball(F)
END:VEVENT
BEGIN:VEVENT
DTSTART;TZID=America/Chicago:20251110T180000
DTEND;TZID=America/Chicago:20251110T180000
DTSTAMP:20260420T225617
CREATED:20251203T174533Z
LAST-MODIFIED:20251203T174533Z
UID:9527-1762797600-1762797600@batigersports.com
SUMMARY:Lady Tigers - Freshmen Black Basketball
DESCRIPTION:Union Red
URL:https://batigersports.com/schedule/lady-tigers-freshmen-black-basketball-7/
CATEGORIES:Basketball(F)
END:VEVENT
BEGIN:VEVENT
DTSTART;TZID=America/Chicago:20251110T180000
DTEND;TZID=America/Chicago:20251110T180000
DTSTAMP:20260420T225617
CREATED:20251203T174533Z
LAST-MODIFIED:20251203T174533Z
UID:9525-1762797600-1762797600@batigersports.com
SUMMARY:Tigers - 8th Girls Gold Basketball
DESCRIPTION:SS White
URL:https://batigersports.com/schedule/tigers-8th-girls-gold-basketball-5/
CATEGORIES:Basketball(F)
END:VEVENT
BEGIN:VEVENT
DTSTART;TZID=America/Chicago:20251110T190000
DTEND;TZID=America/Chicago:20251110T190000
DTSTAMP:20260420T225617
CREATED:20251203T174537Z
LAST-MODIFIED:20251203T174537Z
UID:9528-1762801200-1762801200@batigersports.com
SUMMARY:Tigers - Freshmen Boys Black Basketball
DESCRIPTION:Union Red
URL:https://batigersports.com/schedule/tigers-freshmen-boys-black-basketball-6/
CATEGORIES:Basketball(M)
END:VEVENT
BEGIN:VEVENT
DTSTART;TZID=America/Chicago:20251110T190000
DTEND;TZID=America/Chicago:20251110T190000
DTSTAMP:20260420T225617
CREATED:20251203T174537Z
LAST-MODIFIED:20251203T174537Z
UID:9529-1762801200-1762801200@batigersports.com
SUMMARY:Tigers - 8th Boys Gold Basketball
DESCRIPTION:Sand Springs White
URL:https://batigersports.com/schedule/tigers-8th-boys-gold-basketball-4/
CATEGORIES:Basketball(M)
END:VEVENT
END:VCALENDAR