BEGIN:VCALENDAR
VERSION:2.0
PRODID:-//BA Tiger Sports - ECPv6.15.20//NONSGML v1.0//EN
CALSCALE:GREGORIAN
METHOD:PUBLISH
X-WR-CALNAME:BA Tiger Sports
X-ORIGINAL-URL:https://batigersports.com
X-WR-CALDESC:Events for BA Tiger Sports
REFRESH-INTERVAL;VALUE=DURATION:PT1H
X-Robots-Tag:noindex
X-PUBLISHED-TTL:PT1H
BEGIN:VTIMEZONE
TZID:America/Chicago
BEGIN:DAYLIGHT
TZOFFSETFROM:-0600
TZOFFSETTO:-0500
TZNAME:CDT
DTSTART:20240310T080000
END:DAYLIGHT
BEGIN:STANDARD
TZOFFSETFROM:-0500
TZOFFSETTO:-0600
TZNAME:CST
DTSTART:20241103T070000
END:STANDARD
BEGIN:DAYLIGHT
TZOFFSETFROM:-0600
TZOFFSETTO:-0500
TZNAME:CDT
DTSTART:20250309T080000
END:DAYLIGHT
BEGIN:STANDARD
TZOFFSETFROM:-0500
TZOFFSETTO:-0600
TZNAME:CST
DTSTART:20251102T070000
END:STANDARD
BEGIN:DAYLIGHT
TZOFFSETFROM:-0600
TZOFFSETTO:-0500
TZNAME:CDT
DTSTART:20260308T080000
END:DAYLIGHT
BEGIN:STANDARD
TZOFFSETFROM:-0500
TZOFFSETTO:-0600
TZNAME:CST
DTSTART:20261101T070000
END:STANDARD
END:VTIMEZONE
BEGIN:VEVENT
DTSTART;TZID=America/Chicago:20251104T180000
DTEND;TZID=America/Chicago:20251104T180000
DTSTAMP:20260421T002429
CREATED:20250807T161639Z
LAST-MODIFIED:20250807T161639Z
UID:9372-1762279200-1762279200@batigersports.com
SUMMARY:Tigers - 8th Black Football
DESCRIPTION:Jenks Maroon
URL:https://batigersports.com/schedule/tigers-8th-black-football-4/
CATEGORIES:Football(M)
END:VEVENT
BEGIN:VEVENT
DTSTART;TZID=America/Chicago:20251104T193000
DTEND;TZID=America/Chicago:20251104T193000
DTSTAMP:20260421T002429
CREATED:20250807T161639Z
LAST-MODIFIED:20250807T161639Z
UID:9373-1762284600-1762284600@batigersports.com
SUMMARY:Tigers - Freshmen Black Football
DESCRIPTION:Jenks High School Jenks Maroon
URL:https://batigersports.com/schedule/tigers-freshmen-black-football-12/
CATEGORIES:Football(M)
END:VEVENT
BEGIN:VEVENT
DTSTART;TZID=America/Chicago:20251107T190000
DTEND;TZID=America/Chicago:20251107T190000
DTSTAMP:20260421T002429
CREATED:20250807T161639Z
LAST-MODIFIED:20250807T161639Z
UID:9374-1762542000-1762542000@batigersports.com
SUMMARY:Tigers - Varsity Football
DESCRIPTION:Westmoore High School Westmoore
URL:https://batigersports.com/schedule/tigers-varsity-football-22/
CATEGORIES:Football(M)
END:VEVENT
BEGIN:VEVENT
DTSTART;TZID=America/Chicago:20251110T180000
DTEND;TZID=America/Chicago:20251110T180000
DTSTAMP:20260421T002429
CREATED:20251203T174533Z
LAST-MODIFIED:20251203T174533Z
UID:9527-1762797600-1762797600@batigersports.com
SUMMARY:Lady Tigers - Freshmen Black Basketball
DESCRIPTION:Union Red
URL:https://batigersports.com/schedule/lady-tigers-freshmen-black-basketball-7/
CATEGORIES:Basketball(F)
END:VEVENT
BEGIN:VEVENT
DTSTART;TZID=America/Chicago:20251110T180000
DTEND;TZID=America/Chicago:20251110T180000
DTSTAMP:20260421T002429
CREATED:20251203T174533Z
LAST-MODIFIED:20251203T174533Z
UID:9525-1762797600-1762797600@batigersports.com
SUMMARY:Tigers - 8th Girls Gold Basketball
DESCRIPTION:SS White
URL:https://batigersports.com/schedule/tigers-8th-girls-gold-basketball-5/
CATEGORIES:Basketball(F)
END:VEVENT
BEGIN:VEVENT
DTSTART;TZID=America/Chicago:20251110T180000
DTEND;TZID=America/Chicago:20251110T180000
DTSTAMP:20260421T002429
CREATED:20251203T174533Z
LAST-MODIFIED:20251203T174533Z
UID:9526-1762797600-1762797600@batigersports.com
SUMMARY:Tigers - 8th Girls White Basketball
DESCRIPTION:SS Black
URL:https://batigersports.com/schedule/tigers-8th-girls-white-basketball-6/
CATEGORIES:Basketball(F)
END:VEVENT
BEGIN:VEVENT
DTSTART;TZID=America/Chicago:20251110T190000
DTEND;TZID=America/Chicago:20251110T190000
DTSTAMP:20260421T002429
CREATED:20251203T174537Z
LAST-MODIFIED:20251203T174537Z
UID:9528-1762801200-1762801200@batigersports.com
SUMMARY:Tigers - Freshmen Boys Black Basketball
DESCRIPTION:Union Red
URL:https://batigersports.com/schedule/tigers-freshmen-boys-black-basketball-6/
CATEGORIES:Basketball(M)
END:VEVENT
BEGIN:VEVENT
DTSTART;TZID=America/Chicago:20251110T190000
DTEND;TZID=America/Chicago:20251110T190000
DTSTAMP:20260421T002429
CREATED:20251203T174537Z
LAST-MODIFIED:20251203T174537Z
UID:9529-1762801200-1762801200@batigersports.com
SUMMARY:Tigers - 8th Boys Gold Basketball
DESCRIPTION:Sand Springs White
URL:https://batigersports.com/schedule/tigers-8th-boys-gold-basketball-4/
CATEGORIES:Basketball(M)
END:VEVENT
BEGIN:VEVENT
DTSTART;TZID=America/Chicago:20251110T190000
DTEND;TZID=America/Chicago:20251110T190000
DTSTAMP:20260421T002429
CREATED:20251203T174537Z
LAST-MODIFIED:20251203T174537Z
UID:9530-1762801200-1762801200@batigersports.com
SUMMARY:Tigers - 8th Boys White Basketball
DESCRIPTION:Carver MS Carver White
URL:https://batigersports.com/schedule/tigers-8th-boys-white-basketball-6/
CATEGORIES:Basketball(M)
END:VEVENT
BEGIN:VEVENT
DTSTART;TZID=America/Chicago:20251113T180000
DTEND;TZID=America/Chicago:20251113T180000
DTSTAMP:20260421T002429
CREATED:20251203T174537Z
LAST-MODIFIED:20251203T174537Z
UID:9532-1763056800-1763056800@batigersports.com
SUMMARY:Tigers - 8th Girls Gold Basketball
DESCRIPTION:Carver White
URL:https://batigersports.com/schedule/tigers-8th-girls-gold-basketball-6/
CATEGORIES:Basketball(F)
END:VEVENT
BEGIN:VEVENT
DTSTART;TZID=America/Chicago:20251113T180000
DTEND;TZID=America/Chicago:20251113T180000
DTSTAMP:20260421T002429
CREATED:20251203T174537Z
LAST-MODIFIED:20251203T174537Z
UID:9531-1763056800-1763056800@batigersports.com
SUMMARY:Lady Tigers - Freshmen Black Basketball
DESCRIPTION:Sapulpa
URL:https://batigersports.com/schedule/lady-tigers-freshmen-black-basketball-8/
CATEGORIES:Basketball(F)
END:VEVENT
BEGIN:VEVENT
DTSTART;TZID=America/Chicago:20251113T180000
DTEND;TZID=America/Chicago:20251113T180000
DTSTAMP:20260421T002429
CREATED:20251203T174552Z
LAST-MODIFIED:20251203T174552Z
UID:9533-1763056800-1763056800@batigersports.com
SUMMARY:Tigers - 8th Girls Black Basketball
DESCRIPTION:Union Red
URL:https://batigersports.com/schedule/tigers-8th-girls-black-basketball-6/
CATEGORIES:Basketball(F)
END:VEVENT
BEGIN:VEVENT
DTSTART;TZID=America/Chicago:20251113T190000
DTEND;TZID=America/Chicago:20251113T190000
DTSTAMP:20260421T002429
CREATED:20251203T174553Z
LAST-MODIFIED:20251203T174553Z
UID:9534-1763060400-1763060400@batigersports.com
SUMMARY:Tigers - 8th Boys Black Basketball
DESCRIPTION:union red
URL:https://batigersports.com/schedule/tigers-8th-boys-black-basketball-6/
CATEGORIES:Basketball(M)
END:VEVENT
BEGIN:VEVENT
DTSTART;TZID=America/Chicago:20251113T190000
DTEND;TZID=America/Chicago:20251113T190000
DTSTAMP:20260421T002429
CREATED:20251203T174553Z
LAST-MODIFIED:20251203T174553Z
UID:9535-1763060400-1763060400@batigersports.com
SUMMARY:Tigers - 8th Boys Gold Basketball
DESCRIPTION:Carver White
URL:https://batigersports.com/schedule/tigers-8th-boys-gold-basketball-5/
CATEGORIES:Basketball(M)
END:VEVENT
BEGIN:VEVENT
DTSTART;TZID=America/Chicago:20251113T190000
DTEND;TZID=America/Chicago:20251113T190000
DTSTAMP:20260421T002429
CREATED:20251203T174553Z
LAST-MODIFIED:20251203T174553Z
UID:9536-1763060400-1763060400@batigersports.com
SUMMARY:Tigers - Freshmen Boys Black Basketball
DESCRIPTION:Sapulpa
URL:https://batigersports.com/schedule/tigers-freshmen-boys-black-basketball-7/
CATEGORIES:Basketball(M)
END:VEVENT
BEGIN:VEVENT
DTSTART;TZID=America/Chicago:20251114T150000
DTEND;TZID=America/Chicago:20251114T150000
DTSTAMP:20260421T002429
CREATED:20251203T174553Z
LAST-MODIFIED:20251203T174553Z
UID:9537-1763132400-1763132400@batigersports.com
SUMMARY:Tigers - Jr High Wrestling Gold
DESCRIPTION:BA Open
URL:https://batigersports.com/schedule/tigers-jr-high-wrestling-gold/
CATEGORIES:Wrestling(M)
END:VEVENT
BEGIN:VEVENT
DTSTART;TZID=America/Chicago:20251114T170000
DTEND;TZID=America/Chicago:20251114T170000
DTSTAMP:20260421T002429
CREATED:20251203T174608Z
LAST-MODIFIED:20251203T174608Z
UID:9538-1763139600-1763139600@batigersports.com
SUMMARY:Tigers - Varsity Wrestling
DESCRIPTION:BA OPEN (Girls)
URL:https://batigersports.com/schedule/tigers-varsity-wrestling-12/
CATEGORIES:Wrestling(M)
END:VEVENT
BEGIN:VEVENT
DTSTART;TZID=America/Chicago:20251115T080000
DTEND;TZID=America/Chicago:20251115T080000
DTSTAMP:20260421T002429
CREATED:20251203T174608Z
LAST-MODIFIED:20251203T174608Z
UID:9539-1763193600-1763193600@batigersports.com
SUMMARY:Tigers - Varsity Wrestling
DESCRIPTION:BA Open (Boys)
URL:https://batigersports.com/schedule/tigers-varsity-wrestling-13/
CATEGORIES:Wrestling(M)
END:VEVENT
BEGIN:VEVENT
DTSTART;TZID=America/Chicago:20251117T170000
DTEND;TZID=America/Chicago:20251117T170000
DTSTAMP:20260421T002429
CREATED:20251203T174608Z
LAST-MODIFIED:20251203T174608Z
UID:9540-1763398800-1763398800@batigersports.com
SUMMARY:Tigers - Freshmen Boys Gold Basketball
DESCRIPTION:Booker T. Washington High School Lions
URL:https://batigersports.com/schedule/tigers-freshmen-boys-gold-basketball-10/
CATEGORIES:Basketball(M)
END:VEVENT
BEGIN:VEVENT
DTSTART;TZID=America/Chicago:20251117T180000
DTEND;TZID=America/Chicago:20251117T180000
DTSTAMP:20260421T002429
CREATED:20251203T174608Z
LAST-MODIFIED:20251203T174608Z
UID:9541-1763402400-1763402400@batigersports.com
SUMMARY:Tigers - 8th Girls Black Basketball
DESCRIPTION:Owasso Red
URL:https://batigersports.com/schedule/tigers-8th-girls-black-basketball-7/
CATEGORIES:Basketball(F)
END:VEVENT
BEGIN:VEVENT
DTSTART;TZID=America/Chicago:20251117T180000
DTEND;TZID=America/Chicago:20251117T180000
DTSTAMP:20260421T002429
CREATED:20251203T174608Z
LAST-MODIFIED:20251203T174608Z
UID:9542-1763402400-1763402400@batigersports.com
SUMMARY:Lady Tigers - Freshmen Black Basketball
DESCRIPTION:Bartlesville
URL:https://batigersports.com/schedule/lady-tigers-freshmen-black-basketball-9/
CATEGORIES:Basketball(F)
END:VEVENT
BEGIN:VEVENT
DTSTART;TZID=America/Chicago:20251117T190000
DTEND;TZID=America/Chicago:20251117T190000
DTSTAMP:20260421T002429
CREATED:20251203T174623Z
LAST-MODIFIED:20251203T174623Z
UID:9543-1763406000-1763406000@batigersports.com
SUMMARY:Tigers - 8th Boys Black Basketball
DESCRIPTION:Owasso Junior High Owasso Rams Red
URL:https://batigersports.com/schedule/tigers-8th-boys-black-basketball-7/
CATEGORIES:Basketball(M)
END:VEVENT
BEGIN:VEVENT
DTSTART;TZID=America/Chicago:20251117T190000
DTEND;TZID=America/Chicago:20251117T190000
DTSTAMP:20260421T002429
CREATED:20251203T174623Z
LAST-MODIFIED:20251203T174623Z
UID:9544-1763406000-1763406000@batigersports.com
SUMMARY:Tigers - Freshmen Boys Black Basketball
DESCRIPTION:Bartlesville High School Freshman Basketball
URL:https://batigersports.com/schedule/tigers-freshmen-boys-black-basketball-8/
CATEGORIES:Basketball(M)
END:VEVENT
BEGIN:VEVENT
DTSTART;TZID=America/Chicago:20251120T170000
DTEND;TZID=America/Chicago:20251120T170000
DTSTAMP:20260421T002429
CREATED:20251203T174623Z
LAST-MODIFIED:20251203T174623Z
UID:9545-1763658000-1763658000@batigersports.com
SUMMARY:Tigers - 8th Girls Gold Basketball
DESCRIPTION:Muskogee White
URL:https://batigersports.com/schedule/tigers-8th-girls-gold-basketball-7/
CATEGORIES:Basketball(F)
END:VEVENT
BEGIN:VEVENT
DTSTART;TZID=America/Chicago:20251120T180000
DTEND;TZID=America/Chicago:20251120T180000
DTSTAMP:20260421T002429
CREATED:20251203T174623Z
LAST-MODIFIED:20251203T174623Z
UID:9546-1763661600-1763661600@batigersports.com
SUMMARY:Tigers - 8th Boys Gold Basketball
DESCRIPTION:Muskogee White
URL:https://batigersports.com/schedule/tigers-8th-boys-gold-basketball-6/
CATEGORIES:Basketball(M)
END:VEVENT
BEGIN:VEVENT
DTSTART;TZID=America/Chicago:20251120T190000
DTEND;TZID=America/Chicago:20251120T190000
DTSTAMP:20260421T002429
CREATED:20251203T174623Z
LAST-MODIFIED:20251203T174623Z
UID:9547-1763665200-1763665200@batigersports.com
SUMMARY:Tigers - Freshmen Boys Gold Basketball
DESCRIPTION:Sand Springs HS 9th Boys Basketball
URL:https://batigersports.com/schedule/tigers-freshmen-boys-gold-basketball-11/
CATEGORIES:Basketball(M)
END:VEVENT
BEGIN:VEVENT
DTSTART;TZID=America/Chicago:20251201T180000
DTEND;TZID=America/Chicago:20251201T180000
DTSTAMP:20260421T002429
CREATED:20251203T174638Z
LAST-MODIFIED:20251203T174638Z
UID:9548-1764612000-1764612000@batigersports.com
SUMMARY:Tigers - Sophomore Boys Basketball
DESCRIPTION:East Central HS East Central
URL:https://batigersports.com/schedule/tigers-sophomore-boys-basketball-7/
CATEGORIES:Basketball(M)
END:VEVENT
BEGIN:VEVENT
DTSTART;TZID=America/Chicago:20251201T180000
DTEND;TZID=America/Chicago:20251201T180000
DTSTAMP:20260421T002429
CREATED:20251203T174638Z
LAST-MODIFIED:20251203T174638Z
UID:9549-1764612000-1764612000@batigersports.com
SUMMARY:Tigers - 8th Girls White Basketball
DESCRIPTION:Jenks White
URL:https://batigersports.com/schedule/tigers-8th-girls-white-basketball-7/
CATEGORIES:Basketball(F)
END:VEVENT
BEGIN:VEVENT
DTSTART;TZID=America/Chicago:20251201T180000
DTEND;TZID=America/Chicago:20251201T180000
DTSTAMP:20260421T002429
CREATED:20251203T174638Z
LAST-MODIFIED:20251203T174638Z
UID:9550-1764612000-1764612000@batigersports.com
SUMMARY:Tigers - 8th Girls Gold Basketball
DESCRIPTION:SS Black
URL:https://batigersports.com/schedule/tigers-8th-girls-gold-basketball-8/
CATEGORIES:Basketball(F)
END:VEVENT
BEGIN:VEVENT
DTSTART;TZID=America/Chicago:20251201T190000
DTEND;TZID=America/Chicago:20251201T190000
DTSTAMP:20260421T002429
CREATED:20251203T174638Z
LAST-MODIFIED:20251203T174638Z
UID:9551-1764615600-1764615600@batigersports.com
SUMMARY:Tigers - 8th Boys White Basketball
DESCRIPTION:Jenks Middle School Jenks White
URL:https://batigersports.com/schedule/tigers-8th-boys-white-basketball-7/
CATEGORIES:Basketball(M)
END:VEVENT
END:VCALENDAR