BEGIN:VCALENDAR
VERSION:2.0
PRODID:-//BA Tiger Sports - ECPv6.15.20//NONSGML v1.0//EN
CALSCALE:GREGORIAN
METHOD:PUBLISH
X-WR-CALNAME:BA Tiger Sports
X-ORIGINAL-URL:https://batigersports.com
X-WR-CALDESC:Events for BA Tiger Sports
REFRESH-INTERVAL;VALUE=DURATION:PT1H
X-Robots-Tag:noindex
X-PUBLISHED-TTL:PT1H
BEGIN:VTIMEZONE
TZID:America/Chicago
BEGIN:DAYLIGHT
TZOFFSETFROM:-0600
TZOFFSETTO:-0500
TZNAME:CDT
DTSTART:20240310T080000
END:DAYLIGHT
BEGIN:STANDARD
TZOFFSETFROM:-0500
TZOFFSETTO:-0600
TZNAME:CST
DTSTART:20241103T070000
END:STANDARD
BEGIN:DAYLIGHT
TZOFFSETFROM:-0600
TZOFFSETTO:-0500
TZNAME:CDT
DTSTART:20250309T080000
END:DAYLIGHT
BEGIN:STANDARD
TZOFFSETFROM:-0500
TZOFFSETTO:-0600
TZNAME:CST
DTSTART:20251102T070000
END:STANDARD
BEGIN:DAYLIGHT
TZOFFSETFROM:-0600
TZOFFSETTO:-0500
TZNAME:CDT
DTSTART:20260308T080000
END:DAYLIGHT
BEGIN:STANDARD
TZOFFSETFROM:-0500
TZOFFSETTO:-0600
TZNAME:CST
DTSTART:20261101T070000
END:STANDARD
BEGIN:DAYLIGHT
TZOFFSETFROM:-0600
TZOFFSETTO:-0500
TZNAME:CDT
DTSTART:20270314T080000
END:DAYLIGHT
BEGIN:STANDARD
TZOFFSETFROM:-0500
TZOFFSETTO:-0600
TZNAME:CST
DTSTART:20271107T070000
END:STANDARD
END:VTIMEZONE
BEGIN:VEVENT
DTSTART;TZID=America/Chicago:20251215T180000
DTEND;TZID=America/Chicago:20251215T180000
DTSTAMP:20260420T230407
CREATED:20251203T174738Z
LAST-MODIFIED:20251203T174738Z
UID:9570-1765821600-1765821600@batigersports.com
SUMMARY:Tigers - 8th Girls Gold Basketball
DESCRIPTION:Union White
URL:https://batigersports.com/schedule/tigers-8th-girls-gold-basketball-10/
CATEGORIES:Basketball(F)
END:VEVENT
BEGIN:VEVENT
DTSTART;TZID=America/Chicago:20251215T180000
DTEND;TZID=America/Chicago:20251215T180000
DTSTAMP:20260420T230407
CREATED:20251203T174738Z
LAST-MODIFIED:20251203T174738Z
UID:9569-1765821600-1765821600@batigersports.com
SUMMARY:Tigers - Sophomore Boys Basketball
DESCRIPTION:Bixby High School HS: Sophomore Basketball(M)
URL:https://batigersports.com/schedule/tigers-sophomore-boys-basketball-9/
CATEGORIES:Basketball(M)
END:VEVENT
BEGIN:VEVENT
DTSTART;TZID=America/Chicago:20251215T190000
DTEND;TZID=America/Chicago:20251215T190000
DTSTAMP:20260420T230407
CREATED:20251203T174738Z
LAST-MODIFIED:20251203T174738Z
UID:9571-1765825200-1765825200@batigersports.com
SUMMARY:Tigers - 8th Boys Gold Basketball
DESCRIPTION:union white
URL:https://batigersports.com/schedule/tigers-8th-boys-gold-basketball-9/
CATEGORIES:Basketball(M)
END:VEVENT
BEGIN:VEVENT
DTSTART;TZID=America/Chicago:20251216T160000
DTEND;TZID=America/Chicago:20251216T160000
DTSTAMP:20260420T230407
CREATED:20251203T174738Z
LAST-MODIFIED:20251203T174738Z
UID:9572-1765900800-1765900800@batigersports.com
SUMMARY:Lady Tigers - JV Basketball
DESCRIPTION:Putnam City North
URL:https://batigersports.com/schedule/lady-tigers-jv-basketball-12/
CATEGORIES:Basketball(F)
END:VEVENT
BEGIN:VEVENT
DTSTART;TZID=America/Chicago:20251216T170000
DTEND;TZID=America/Chicago:20251216T170000
DTSTAMP:20260420T230407
CREATED:20251203T174753Z
LAST-MODIFIED:20251203T174753Z
UID:9573-1765904400-1765904400@batigersports.com
SUMMARY:Tigers - JV Boys Basketball
DESCRIPTION:Putnam City North High School Panthers
URL:https://batigersports.com/schedule/tigers-jv-boys-basketball-11/
CATEGORIES:Basketball(M)
END:VEVENT
BEGIN:VEVENT
DTSTART;TZID=America/Chicago:20251216T170000
DTEND;TZID=America/Chicago:20251216T170000
DTSTAMP:20260420T230407
CREATED:20251203T174753Z
LAST-MODIFIED:20251203T174753Z
UID:9574-1765904400-1765904400@batigersports.com
SUMMARY:Tigers - Jr High Wrestling Gold
DESCRIPTION:Tulsa Union
URL:https://batigersports.com/schedule/tigers-jr-high-wrestling-gold-2/
CATEGORIES:Wrestling(M)
END:VEVENT
BEGIN:VEVENT
DTSTART;TZID=America/Chicago:20251216T183000
DTEND;TZID=America/Chicago:20251216T183000
DTSTAMP:20260420T230407
CREATED:20251203T174753Z
LAST-MODIFIED:20251203T174753Z
UID:9575-1765909800-1765909800@batigersports.com
SUMMARY:Lady Tigers - Varsity Girls Basketball
DESCRIPTION:Putnam City North
URL:https://batigersports.com/schedule/lady-tigers-varsity-girls-basketball-12/
CATEGORIES:Basketball(F)
END:VEVENT
BEGIN:VEVENT
DTSTART;TZID=America/Chicago:20251216T190000
DTEND;TZID=America/Chicago:20251216T190000
DTSTAMP:20260420T230407
CREATED:20251203T174753Z
LAST-MODIFIED:20251203T174753Z
UID:9576-1765911600-1765911600@batigersports.com
SUMMARY:Tigers - Varsity Wrestling
DESCRIPTION:UNION
URL:https://batigersports.com/schedule/tigers-varsity-wrestling-14/
CATEGORIES:Wrestling(M)
END:VEVENT
BEGIN:VEVENT
DTSTART;TZID=America/Chicago:20251216T200000
DTEND;TZID=America/Chicago:20251216T200000
DTSTAMP:20260420T230407
CREATED:20251203T174753Z
LAST-MODIFIED:20251203T174753Z
UID:9577-1765915200-1765915200@batigersports.com
SUMMARY:Tigers - Varsity Boys Basketball
DESCRIPTION:Putnam City North High School Panthers
URL:https://batigersports.com/schedule/tigers-varsity-boys-basketball-12/
CATEGORIES:Basketball(M)
END:VEVENT
BEGIN:VEVENT
DTSTART;TZID=America/Chicago:20251218T180000
DTEND;TZID=America/Chicago:20251218T180000
DTSTAMP:20260420T230407
CREATED:20251203T174808Z
LAST-MODIFIED:20251203T174808Z
UID:9578-1766080800-1766080800@batigersports.com
SUMMARY:Lady Tigers - Sophomore Basketball
DESCRIPTION:Jenks
URL:https://batigersports.com/schedule/lady-tigers-sophomore-basketball-7/
CATEGORIES:Basketball(F)
END:VEVENT
BEGIN:VEVENT
DTSTART;TZID=America/Chicago:20251218T190000
DTEND;TZID=America/Chicago:20251218T190000
DTSTAMP:20260420T230407
CREATED:20251203T174808Z
LAST-MODIFIED:20251203T174808Z
UID:9579-1766084400-1766084400@batigersports.com
SUMMARY:Tigers - Sophomore Boys Basketball
DESCRIPTION:Jenks High School Jenks
URL:https://batigersports.com/schedule/tigers-sophomore-boys-basketball-10/
CATEGORIES:Basketball(M)
END:VEVENT
BEGIN:VEVENT
DTSTART;TZID=America/Chicago:20260105T180000
DTEND;TZID=America/Chicago:20260105T180000
DTSTAMP:20260420T230407
CREATED:20251203T174808Z
LAST-MODIFIED:20251203T174808Z
UID:9580-1767636000-1767636000@batigersports.com
SUMMARY:Tigers - 8th Girls Black Basketball
DESCRIPTION:Sapulpa Blue
URL:https://batigersports.com/schedule/tigers-8th-girls-black-basketball-8/
CATEGORIES:Basketball(F)
END:VEVENT
BEGIN:VEVENT
DTSTART;TZID=America/Chicago:20260105T190000
DTEND;TZID=America/Chicago:20260105T190000
DTSTAMP:20260420T230407
CREATED:20251203T174808Z
LAST-MODIFIED:20251203T174808Z
UID:9581-1767639600-1767639600@batigersports.com
SUMMARY:Tigers - 8th Boys Black Basketball
DESCRIPTION:Sapulpa Blue
URL:https://batigersports.com/schedule/tigers-8th-boys-black-basketball-8/
CATEGORIES:Basketball(M)
END:VEVENT
BEGIN:VEVENT
DTSTART;TZID=America/Chicago:20260105T190000
DTEND;TZID=America/Chicago:20260105T190000
DTSTAMP:20260420T230407
CREATED:20251203T174808Z
LAST-MODIFIED:20251203T174808Z
UID:9582-1767639600-1767639600@batigersports.com
SUMMARY:Tigers - Freshmen Boys Gold Basketball
DESCRIPTION:Union White
URL:https://batigersports.com/schedule/tigers-freshmen-boys-gold-basketball-12/
CATEGORIES:Basketball(M)
END:VEVENT
BEGIN:VEVENT
DTSTART;TZID=America/Chicago:20260108T170000
DTEND;TZID=America/Chicago:20260108T170000
DTSTAMP:20260420T230407
CREATED:20251203T174823Z
LAST-MODIFIED:20251203T174823Z
UID:9583-1767891600-1767891600@batigersports.com
SUMMARY:Tigers - Freshmen Boys Gold Basketball
DESCRIPTION:Jenks High School Jenks White
URL:https://batigersports.com/schedule/tigers-freshmen-boys-gold-basketball-13/
CATEGORIES:Basketball(M)
END:VEVENT
BEGIN:VEVENT
DTSTART;TZID=America/Chicago:20260108T180000
DTEND;TZID=America/Chicago:20260108T180000
DTSTAMP:20260420T230407
CREATED:20251203T174823Z
LAST-MODIFIED:20251203T174823Z
UID:9586-1767895200-1767895200@batigersports.com
SUMMARY:Lady Tigers - Freshmen Black Basketball
DESCRIPTION:Bixby
URL:https://batigersports.com/schedule/lady-tigers-freshmen-black-basketball-11/
CATEGORIES:Basketball(F)
END:VEVENT
BEGIN:VEVENT
DTSTART;TZID=America/Chicago:20260108T180000
DTEND;TZID=America/Chicago:20260108T180000
DTSTAMP:20260420T230407
CREATED:20251203T174823Z
LAST-MODIFIED:20251203T174823Z
UID:9584-1767895200-1767895200@batigersports.com
SUMMARY:Tigers - 8th Girls Black Basketball
DESCRIPTION:Bville White
URL:https://batigersports.com/schedule/tigers-8th-girls-black-basketball-9/
CATEGORIES:Basketball(F)
END:VEVENT
BEGIN:VEVENT
DTSTART;TZID=America/Chicago:20260108T180000
DTEND;TZID=America/Chicago:20260108T180000
DTSTAMP:20260420T230407
CREATED:20251203T174823Z
LAST-MODIFIED:20251203T174823Z
UID:9585-1767895200-1767895200@batigersports.com
SUMMARY:Tigers - 8th Girls White Basketball
DESCRIPTION:Jenks Gray
URL:https://batigersports.com/schedule/tigers-8th-girls-white-basketball-9/
CATEGORIES:Basketball(F)
END:VEVENT
BEGIN:VEVENT
DTSTART;TZID=America/Chicago:20260108T190000
DTEND;TZID=America/Chicago:20260108T190000
DTSTAMP:20260420T230407
CREATED:20251203T174823Z
LAST-MODIFIED:20251203T174823Z
UID:9587-1767898800-1767898800@batigersports.com
SUMMARY:Tigers - 8th Boys Black Basketball
DESCRIPTION:bartlesville white
URL:https://batigersports.com/schedule/tigers-8th-boys-black-basketball-9/
CATEGORIES:Basketball(M)
END:VEVENT
BEGIN:VEVENT
DTSTART;TZID=America/Chicago:20260108T190000
DTEND;TZID=America/Chicago:20260108T190000
DTSTAMP:20260420T230407
CREATED:20251203T174838Z
LAST-MODIFIED:20251203T174838Z
UID:9588-1767898800-1767898800@batigersports.com
SUMMARY:Tigers - Freshmen Boys Black Basketball
DESCRIPTION:Bixby High School HS: 9th Grade Basketball(M)
URL:https://batigersports.com/schedule/tigers-freshmen-boys-black-basketball-10/
CATEGORIES:Basketball(M)
END:VEVENT
BEGIN:VEVENT
DTSTART;TZID=America/Chicago:20260108T190000
DTEND;TZID=America/Chicago:20260108T190000
DTSTAMP:20260420T230407
CREATED:20251203T174838Z
LAST-MODIFIED:20251203T174838Z
UID:9589-1767898800-1767898800@batigersports.com
SUMMARY:Tigers - 8th Boys White Basketball
DESCRIPTION:bartlesville blue
URL:https://batigersports.com/schedule/tigers-8th-boys-white-basketball-9/
CATEGORIES:Basketball(M)
END:VEVENT
BEGIN:VEVENT
DTSTART;TZID=America/Chicago:20260112T170000
DTEND;TZID=America/Chicago:20260112T170000
DTSTAMP:20260420T230407
CREATED:20251203T174838Z
LAST-MODIFIED:20251203T174838Z
UID:9590-1768237200-1768237200@batigersports.com
SUMMARY:Tigers - Freshmen Boys Gold Basketball
DESCRIPTION:Bishop Kelley HS 9th Grade
URL:https://batigersports.com/schedule/tigers-freshmen-boys-gold-basketball-14/
CATEGORIES:Basketball(M)
END:VEVENT
BEGIN:VEVENT
DTSTART;TZID=America/Chicago:20260112T180000
DTEND;TZID=America/Chicago:20260112T180000
DTSTAMP:20260420T230407
CREATED:20251203T174838Z
LAST-MODIFIED:20251203T174838Z
UID:9592-1768240800-1768240800@batigersports.com
SUMMARY:Tigers - 8th Girls Black Basketball
DESCRIPTION:Carver Purple
URL:https://batigersports.com/schedule/tigers-8th-girls-black-basketball-10/
CATEGORIES:Basketball(F)
END:VEVENT
BEGIN:VEVENT
DTSTART;TZID=America/Chicago:20260112T180000
DTEND;TZID=America/Chicago:20260112T180000
DTSTAMP:20260420T230407
CREATED:20251203T174838Z
LAST-MODIFIED:20251203T174838Z
UID:9591-1768240800-1768240800@batigersports.com
SUMMARY:Lady Tigers - Freshmen Black Basketball
DESCRIPTION:Muskogee
URL:https://batigersports.com/schedule/lady-tigers-freshmen-black-basketball-12/
CATEGORIES:Basketball(F)
END:VEVENT
BEGIN:VEVENT
DTSTART;TZID=America/Chicago:20260112T180000
DTEND;TZID=America/Chicago:20260112T180000
DTSTAMP:20260420T230407
CREATED:20251203T174853Z
LAST-MODIFIED:20251203T174853Z
UID:9593-1768240800-1768240800@batigersports.com
SUMMARY:Lady Tigers - Sophomore Basketball
DESCRIPTION:Sapulpa
URL:https://batigersports.com/schedule/lady-tigers-sophomore-basketball-8/
CATEGORIES:Basketball(F)
END:VEVENT
BEGIN:VEVENT
DTSTART;TZID=America/Chicago:20260112T190000
DTEND;TZID=America/Chicago:20260112T190000
DTSTAMP:20260420T230407
CREATED:20251203T174853Z
LAST-MODIFIED:20251203T174853Z
UID:9594-1768244400-1768244400@batigersports.com
SUMMARY:Tigers - Sophomore Boys Basketball
DESCRIPTION:Sapulpa
URL:https://batigersports.com/schedule/tigers-sophomore-boys-basketball-11/
CATEGORIES:Basketball(M)
END:VEVENT
BEGIN:VEVENT
DTSTART;TZID=America/Chicago:20260112T190000
DTEND;TZID=America/Chicago:20260112T190000
DTSTAMP:20260420T230407
CREATED:20251203T174853Z
LAST-MODIFIED:20251203T174853Z
UID:9595-1768244400-1768244400@batigersports.com
SUMMARY:Tigers - 8th Boys Black Basketball
DESCRIPTION:Carver MS Carver Purple
URL:https://batigersports.com/schedule/tigers-8th-boys-black-basketball-10/
CATEGORIES:Basketball(M)
END:VEVENT
BEGIN:VEVENT
DTSTART;TZID=America/Chicago:20260112T190000
DTEND;TZID=America/Chicago:20260112T190000
DTSTAMP:20260420T230407
CREATED:20251203T174853Z
LAST-MODIFIED:20251203T174853Z
UID:9596-1768244400-1768244400@batigersports.com
SUMMARY:Tigers - Freshmen Boys Black Basketball
DESCRIPTION:Bishop Kelley HS 9th Grade
URL:https://batigersports.com/schedule/tigers-freshmen-boys-black-basketball-11/
CATEGORIES:Basketball(M)
END:VEVENT
BEGIN:VEVENT
DTSTART;TZID=America/Chicago:20260113T160000
DTEND;TZID=America/Chicago:20260113T160000
DTSTAMP:20260420T230407
CREATED:20251203T174853Z
LAST-MODIFIED:20251203T174853Z
UID:9597-1768320000-1768320000@batigersports.com
SUMMARY:Lady Tigers - JV Basketball
DESCRIPTION:Muskogee
URL:https://batigersports.com/schedule/lady-tigers-jv-basketball-13/
CATEGORIES:Basketball(F)
END:VEVENT
BEGIN:VEVENT
DTSTART;TZID=America/Chicago:20260113T170000
DTEND;TZID=America/Chicago:20260113T170000
DTSTAMP:20260420T230407
CREATED:20251203T174908Z
LAST-MODIFIED:20251203T174908Z
UID:9598-1768323600-1768323600@batigersports.com
SUMMARY:Tigers - JV Boys Basketball
DESCRIPTION:Muskogee High School (9-12) Muskogee
URL:https://batigersports.com/schedule/tigers-jv-boys-basketball-12/
CATEGORIES:Basketball(M)
END:VEVENT
END:VCALENDAR