BEGIN:VCALENDAR
VERSION:2.0
PRODID:-//BA Tiger Sports - ECPv6.15.20//NONSGML v1.0//EN
CALSCALE:GREGORIAN
METHOD:PUBLISH
X-WR-CALNAME:BA Tiger Sports
X-ORIGINAL-URL:https://batigersports.com
X-WR-CALDESC:Events for BA Tiger Sports
REFRESH-INTERVAL;VALUE=DURATION:PT1H
X-Robots-Tag:noindex
X-PUBLISHED-TTL:PT1H
BEGIN:VTIMEZONE
TZID:America/Chicago
BEGIN:DAYLIGHT
TZOFFSETFROM:-0600
TZOFFSETTO:-0500
TZNAME:CDT
DTSTART:20250309T080000
END:DAYLIGHT
BEGIN:STANDARD
TZOFFSETFROM:-0500
TZOFFSETTO:-0600
TZNAME:CST
DTSTART:20251102T070000
END:STANDARD
BEGIN:DAYLIGHT
TZOFFSETFROM:-0600
TZOFFSETTO:-0500
TZNAME:CDT
DTSTART:20260308T080000
END:DAYLIGHT
BEGIN:STANDARD
TZOFFSETFROM:-0500
TZOFFSETTO:-0600
TZNAME:CST
DTSTART:20261101T070000
END:STANDARD
BEGIN:DAYLIGHT
TZOFFSETFROM:-0600
TZOFFSETTO:-0500
TZNAME:CDT
DTSTART:20270314T080000
END:DAYLIGHT
BEGIN:STANDARD
TZOFFSETFROM:-0500
TZOFFSETTO:-0600
TZNAME:CST
DTSTART:20271107T070000
END:STANDARD
END:VTIMEZONE
BEGIN:VEVENT
DTSTART;TZID=America/Chicago:20260310T163000
DTEND;TZID=America/Chicago:20260310T163000
DTSTAMP:20260420T211442
CREATED:20251203T175108Z
LAST-MODIFIED:20251203T175108Z
UID:9640-1773160200-1773160200@batigersports.com
SUMMARY:Tigers - JV Boys Black Soccer
DESCRIPTION:Bishop Kelley HS Bishop Kelley Red
URL:https://batigersports.com/schedule/tigers-jv-boys-black-soccer-25/
CATEGORIES:Soccer(M)
END:VEVENT
BEGIN:VEVENT
DTSTART;TZID=America/Chicago:20260310T200000
DTEND;TZID=America/Chicago:20260310T200000
DTSTAMP:20260420T211442
CREATED:20251203T175108Z
LAST-MODIFIED:20251203T175108Z
UID:9641-1773172800-1773172800@batigersports.com
SUMMARY:Tigers - Varsity Boys Soccer
DESCRIPTION:Bishop Kelley HS Bishop Kelley
URL:https://batigersports.com/schedule/tigers-varsity-boys-soccer-20/
CATEGORIES:Soccer(M)
END:VEVENT
BEGIN:VEVENT
DTSTART;TZID=America/Chicago:20260313T163000
DTEND;TZID=America/Chicago:20260313T163000
DTSTAMP:20260420T211442
CREATED:20251203T175123Z
LAST-MODIFIED:20251203T175123Z
UID:9642-1773419400-1773419400@batigersports.com
SUMMARY:Tigers - JV Boys Black Soccer
DESCRIPTION:Union High School Union JV Black
URL:https://batigersports.com/schedule/tigers-jv-boys-black-soccer-26/
CATEGORIES:Soccer(M)
END:VEVENT
BEGIN:VEVENT
DTSTART;TZID=America/Chicago:20260313T163000
DTEND;TZID=America/Chicago:20260313T163000
DTSTAMP:20260420T211442
CREATED:20251203T175123Z
LAST-MODIFIED:20251203T175123Z
UID:9643-1773419400-1773419400@batigersports.com
SUMMARY:Tigers - JV Boys Gold Soccer
DESCRIPTION:Union High School Union JV Black
URL:https://batigersports.com/schedule/tigers-jv-boys-gold-soccer-22/
CATEGORIES:Soccer(M)
END:VEVENT
BEGIN:VEVENT
DTSTART;TZID=America/Chicago:20260313T180000
DTEND;TZID=America/Chicago:20260313T180000
DTSTAMP:20260420T211442
CREATED:20251203T175123Z
LAST-MODIFIED:20251203T175123Z
UID:9644-1773424800-1773424800@batigersports.com
SUMMARY:Tigers - Varsity Boys Soccer
DESCRIPTION:Union High School Union Varsity
URL:https://batigersports.com/schedule/tigers-varsity-boys-soccer-21/
CATEGORIES:Soccer(M)
END:VEVENT
BEGIN:VEVENT
DTSTART;TZID=America/Chicago:20260327T153000
DTEND;TZID=America/Chicago:20260327T153000
DTSTAMP:20260420T211442
CREATED:20251203T175123Z
LAST-MODIFIED:20251203T175123Z
UID:9645-1774625400-1774625400@batigersports.com
SUMMARY:Tigers - JV Boys Gold Soccer
DESCRIPTION:Jenks High School Jenks Maroon
URL:https://batigersports.com/schedule/tigers-jv-boys-gold-soccer-23/
CATEGORIES:Soccer(M)
END:VEVENT
BEGIN:VEVENT
DTSTART;TZID=America/Chicago:20260327T163000
DTEND;TZID=America/Chicago:20260327T163000
DTSTAMP:20260420T211442
CREATED:20251203T175123Z
LAST-MODIFIED:20251203T175123Z
UID:9646-1774629000-1774629000@batigersports.com
SUMMARY:Tigers - JV Boys Black Soccer
DESCRIPTION:Jenks High School Jenks Maroon
URL:https://batigersports.com/schedule/tigers-jv-boys-black-soccer-27/
CATEGORIES:Soccer(M)
END:VEVENT
BEGIN:VEVENT
DTSTART;TZID=America/Chicago:20260327T200000
DTEND;TZID=America/Chicago:20260327T200000
DTSTAMP:20260420T211442
CREATED:20251203T175138Z
LAST-MODIFIED:20251203T175138Z
UID:9647-1774641600-1774641600@batigersports.com
SUMMARY:Tigers - Varsity Boys Soccer
DESCRIPTION:Jenks High School Jenks
URL:https://batigersports.com/schedule/tigers-varsity-boys-soccer-22/
CATEGORIES:Soccer(M)
END:VEVENT
BEGIN:VEVENT
DTSTART;TZID=America/Chicago:20260402T200000
DTEND;TZID=America/Chicago:20260402T200000
DTSTAMP:20260420T211442
CREATED:20251203T175138Z
LAST-MODIFIED:20251203T175138Z
UID:9648-1775160000-1775160000@batigersports.com
SUMMARY:Tigers - Varsity Boys Soccer
DESCRIPTION:Owasso High School Owasso Rams
URL:https://batigersports.com/schedule/tigers-varsity-boys-soccer-23/
CATEGORIES:Soccer(M)
END:VEVENT
BEGIN:VEVENT
DTSTART;TZID=America/Chicago:20260413T163000
DTEND;TZID=America/Chicago:20260413T163000
DTSTAMP:20260420T211442
CREATED:20251203T175138Z
LAST-MODIFIED:20251203T175138Z
UID:9649-1776097800-1776097800@batigersports.com
SUMMARY:Tigers - JV Boys Black Soccer
DESCRIPTION:Owasso High School Owasso Rams Red
URL:https://batigersports.com/schedule/tigers-jv-boys-black-soccer-28/
CATEGORIES:Soccer(M)
END:VEVENT
BEGIN:VEVENT
DTSTART;TZID=America/Chicago:20260413T163000
DTEND;TZID=America/Chicago:20260413T163000
DTSTAMP:20260420T211442
CREATED:20251203T175138Z
LAST-MODIFIED:20251203T175138Z
UID:9650-1776097800-1776097800@batigersports.com
SUMMARY:Tigers - JV Boys Gold Soccer
DESCRIPTION:Owasso High School Owasso Rams Red
URL:https://batigersports.com/schedule/tigers-jv-boys-gold-soccer-24/
CATEGORIES:Soccer(M)
END:VEVENT
BEGIN:VEVENT
DTSTART;TZID=America/Chicago:20260417T153000
DTEND;TZID=America/Chicago:20260417T153000
DTSTAMP:20260420T211442
CREATED:20251203T175138Z
LAST-MODIFIED:20251203T175138Z
UID:9651-1776439800-1776439800@batigersports.com
SUMMARY:Tigers - JV Boys Black Soccer
DESCRIPTION:Bartlesville High School JV Soccer White
URL:https://batigersports.com/schedule/tigers-jv-boys-black-soccer-29/
CATEGORIES:Soccer(M)
END:VEVENT
BEGIN:VEVENT
DTSTART;TZID=America/Chicago:20260417T163000
DTEND;TZID=America/Chicago:20260417T163000
DTSTAMP:20260420T211442
CREATED:20251203T175153Z
LAST-MODIFIED:20251203T175153Z
UID:9652-1776443400-1776443400@batigersports.com
SUMMARY:Tigers - JV Boys Gold Soccer
DESCRIPTION:Bartlesville High School JV Soccer White
URL:https://batigersports.com/schedule/tigers-jv-boys-gold-soccer-25/
CATEGORIES:Soccer(M)
END:VEVENT
BEGIN:VEVENT
DTSTART;TZID=America/Chicago:20260417T200000
DTEND;TZID=America/Chicago:20260417T200000
DTSTAMP:20260420T211442
CREATED:20251203T175153Z
LAST-MODIFIED:20251203T175153Z
UID:9653-1776456000-1776456000@batigersports.com
SUMMARY:Tigers - Varsity Boys Soccer
DESCRIPTION:Bartlesville High School Varsity Soccer
URL:https://batigersports.com/schedule/tigers-varsity-boys-soccer-24/
CATEGORIES:Soccer(M)
END:VEVENT
BEGIN:VEVENT
DTSTART;TZID=America/Chicago:20260421T153000
DTEND;TZID=America/Chicago:20260421T153000
DTSTAMP:20260420T211442
CREATED:20251203T175153Z
LAST-MODIFIED:20251203T175153Z
UID:9654-1776785400-1776785400@batigersports.com
SUMMARY:Tigers - JV Boys Gold Soccer
DESCRIPTION:Muskogee High School (9-12) Muskogee JV A Team
URL:https://batigersports.com/schedule/tigers-jv-boys-gold-soccer-26/
CATEGORIES:Soccer(M)
END:VEVENT
BEGIN:VEVENT
DTSTART;TZID=America/Chicago:20260421T163000
DTEND;TZID=America/Chicago:20260421T163000
DTSTAMP:20260420T211442
CREATED:20251203T175153Z
LAST-MODIFIED:20251203T175153Z
UID:9655-1776789000-1776789000@batigersports.com
SUMMARY:Tigers - JV Boys Black Soccer
DESCRIPTION:Muskogee High School (9-12) Muskogee JV A Team
URL:https://batigersports.com/schedule/tigers-jv-boys-black-soccer-30/
CATEGORIES:Soccer(M)
END:VEVENT
BEGIN:VEVENT
DTSTART;TZID=America/Chicago:20260421T200000
DTEND;TZID=America/Chicago:20260421T200000
DTSTAMP:20260420T211442
CREATED:20251203T175153Z
LAST-MODIFIED:20251203T175153Z
UID:9656-1776801600-1776801600@batigersports.com
SUMMARY:Tigers - Varsity Boys Soccer
DESCRIPTION:Muskogee High School (9-12) Muskogee
URL:https://batigersports.com/schedule/tigers-varsity-boys-soccer-25/
CATEGORIES:Soccer(M)
END:VEVENT
BEGIN:VEVENT
DTSTART;TZID=America/Chicago:20260424T153000
DTEND;TZID=America/Chicago:20260424T153000
DTSTAMP:20260420T211442
CREATED:20251203T175208Z
LAST-MODIFIED:20251203T175208Z
UID:9657-1777044600-1777044600@batigersports.com
SUMMARY:Tigers - JV Boys Black Soccer
DESCRIPTION:Sand Springs HS JV Boys Soccer
URL:https://batigersports.com/schedule/tigers-jv-boys-black-soccer-31/
CATEGORIES:Soccer(M)
END:VEVENT
BEGIN:VEVENT
DTSTART;TZID=America/Chicago:20260424T200000
DTEND;TZID=America/Chicago:20260424T200000
DTSTAMP:20260420T211442
CREATED:20251203T175208Z
LAST-MODIFIED:20251203T175208Z
UID:9658-1777060800-1777060800@batigersports.com
SUMMARY:Tigers - Varsity Boys Soccer
DESCRIPTION:Sand Springs HS Varsity Boys Soccer
URL:https://batigersports.com/schedule/tigers-varsity-boys-soccer-26/
CATEGORIES:Soccer(M)
END:VEVENT
END:VCALENDAR