BEGIN:VCALENDAR
VERSION:2.0
PRODID:-//BA Tiger Sports - ECPv6.15.20//NONSGML v1.0//EN
CALSCALE:GREGORIAN
METHOD:PUBLISH
X-WR-CALNAME:BA Tiger Sports
X-ORIGINAL-URL:https://batigersports.com
X-WR-CALDESC:Events for BA Tiger Sports
REFRESH-INTERVAL;VALUE=DURATION:PT1H
X-Robots-Tag:noindex
X-PUBLISHED-TTL:PT1H
BEGIN:VTIMEZONE
TZID:America/Chicago
BEGIN:DAYLIGHT
TZOFFSETFROM:-0600
TZOFFSETTO:-0500
TZNAME:CDT
DTSTART:20250309T080000
END:DAYLIGHT
BEGIN:STANDARD
TZOFFSETFROM:-0500
TZOFFSETTO:-0600
TZNAME:CST
DTSTART:20251102T070000
END:STANDARD
BEGIN:DAYLIGHT
TZOFFSETFROM:-0600
TZOFFSETTO:-0500
TZNAME:CDT
DTSTART:20260308T080000
END:DAYLIGHT
BEGIN:STANDARD
TZOFFSETFROM:-0500
TZOFFSETTO:-0600
TZNAME:CST
DTSTART:20261101T070000
END:STANDARD
BEGIN:DAYLIGHT
TZOFFSETFROM:-0600
TZOFFSETTO:-0500
TZNAME:CDT
DTSTART:20270314T080000
END:DAYLIGHT
BEGIN:STANDARD
TZOFFSETFROM:-0500
TZOFFSETTO:-0600
TZNAME:CST
DTSTART:20271107T070000
END:STANDARD
END:VTIMEZONE
BEGIN:VEVENT
DTSTART;TZID=America/Chicago:20260206T160000
DTEND;TZID=America/Chicago:20260206T160000
DTSTAMP:20260420T213436
CREATED:20251203T175023Z
LAST-MODIFIED:20251203T175023Z
UID:9623-1770393600-1770393600@batigersports.com
SUMMARY:Lady Tigers - JV Basketball
DESCRIPTION:Stillwater
URL:https://batigersports.com/schedule/lady-tigers-jv-basketball-15/
CATEGORIES:Basketball(F)
END:VEVENT
BEGIN:VEVENT
DTSTART;TZID=America/Chicago:20260203T200000
DTEND;TZID=America/Chicago:20260203T200000
DTSTAMP:20260420T213436
CREATED:20251203T175008Z
LAST-MODIFIED:20251203T175008Z
UID:9622-1770148800-1770148800@batigersports.com
SUMMARY:Tigers - Varsity Boys Basketball
DESCRIPTION:Capitol Hill
URL:https://batigersports.com/schedule/tigers-varsity-boys-basketball-15/
CATEGORIES:Basketball(M)
END:VEVENT
BEGIN:VEVENT
DTSTART;TZID=America/Chicago:20260203T183000
DTEND;TZID=America/Chicago:20260203T183000
DTSTAMP:20260420T213436
CREATED:20251203T175008Z
LAST-MODIFIED:20251203T175008Z
UID:9621-1770143400-1770143400@batigersports.com
SUMMARY:Lady Tigers - Varsity Girls Basketball
DESCRIPTION:Capitol Hill
URL:https://batigersports.com/schedule/lady-tigers-varsity-girls-basketball-14/
CATEGORIES:Basketball(F)
END:VEVENT
BEGIN:VEVENT
DTSTART;TZID=America/Chicago:20260203T170000
DTEND;TZID=America/Chicago:20260203T170000
DTSTAMP:20260420T213436
CREATED:20251203T175008Z
LAST-MODIFIED:20251203T175008Z
UID:9620-1770138000-1770138000@batigersports.com
SUMMARY:Tigers - JV Boys Basketball
DESCRIPTION:Capitol Hill High School CHHS Junior Varsity Boys Basketball
URL:https://batigersports.com/schedule/tigers-jv-boys-basketball-13/
CATEGORIES:Basketball(M)
END:VEVENT
BEGIN:VEVENT
DTSTART;TZID=America/Chicago:20260203T160000
DTEND;TZID=America/Chicago:20260203T160000
DTSTAMP:20260420T213436
CREATED:20251203T175008Z
LAST-MODIFIED:20251203T175008Z
UID:9619-1770134400-1770134400@batigersports.com
SUMMARY:Lady Tigers - JV Basketball
DESCRIPTION:Capitol Hill
URL:https://batigersports.com/schedule/lady-tigers-jv-basketball-14/
CATEGORIES:Basketball(F)
END:VEVENT
BEGIN:VEVENT
DTSTART;TZID=America/Chicago:20260202T190000
DTEND;TZID=America/Chicago:20260202T190000
DTSTAMP:20260420T213436
CREATED:20251203T175008Z
LAST-MODIFIED:20251203T175008Z
UID:9618-1770058800-1770058800@batigersports.com
SUMMARY:Tigers - 8th Boys Black Basketball
DESCRIPTION:Jenks Middle School Jenks Maroon
URL:https://batigersports.com/schedule/tigers-8th-boys-black-basketball-12/
CATEGORIES:Basketball(M)
END:VEVENT
BEGIN:VEVENT
DTSTART;TZID=America/Chicago:20260202T180000
DTEND;TZID=America/Chicago:20260202T180000
DTSTAMP:20260420T213436
CREATED:20251203T174953Z
LAST-MODIFIED:20251203T174953Z
UID:9617-1770055200-1770055200@batigersports.com
SUMMARY:Tigers - 8th Boys White Basketball
DESCRIPTION:Bixby Middle School MS: Basketball (M)- Red
URL:https://batigersports.com/schedule/tigers-8th-boys-white-basketball-11/
CATEGORIES:Basketball(M)
END:VEVENT
BEGIN:VEVENT
DTSTART;TZID=America/Chicago:20260202T180000
DTEND;TZID=America/Chicago:20260202T180000
DTSTAMP:20260420T213436
CREATED:20251203T174953Z
LAST-MODIFIED:20251203T174953Z
UID:9616-1770055200-1770055200@batigersports.com
SUMMARY:Tigers - 8th Girls Black Basketball
DESCRIPTION:Jenks Maroon
URL:https://batigersports.com/schedule/tigers-8th-girls-black-basketball-12/
CATEGORIES:Basketball(F)
END:VEVENT
BEGIN:VEVENT
DTSTART;TZID=America/Chicago:20260202T170000
DTEND;TZID=America/Chicago:20260202T170000
DTSTAMP:20260420T213436
CREATED:20251203T174953Z
LAST-MODIFIED:20251203T174953Z
UID:9615-1770051600-1770051600@batigersports.com
SUMMARY:Tigers - 8th Girls White Basketball
DESCRIPTION:Bixby Red
URL:https://batigersports.com/schedule/tigers-8th-girls-white-basketball-11/
CATEGORIES:Basketball(F)
END:VEVENT
BEGIN:VEVENT
DTSTART;TZID=America/Chicago:20260129T190000
DTEND;TZID=America/Chicago:20260129T190000
DTSTAMP:20260420T213436
CREATED:20251203T174953Z
LAST-MODIFIED:20251203T174953Z
UID:9613-1769713200-1769713200@batigersports.com
SUMMARY:Tigers - Freshmen Boys Black Basketball
DESCRIPTION:Jenks High School Jenks Maroon
URL:https://batigersports.com/schedule/tigers-freshmen-boys-black-basketball-12/
CATEGORIES:Basketball(M)
END:VEVENT
BEGIN:VEVENT
DTSTART;TZID=America/Chicago:20260129T190000
DTEND;TZID=America/Chicago:20260129T190000
DTSTAMP:20260420T213436
CREATED:20251203T174953Z
LAST-MODIFIED:20251203T174953Z
UID:9614-1769713200-1769713200@batigersports.com
SUMMARY:Tigers - 8th Boys Black Basketball
DESCRIPTION:Muskogee green
URL:https://batigersports.com/schedule/tigers-8th-boys-black-basketball-11/
CATEGORIES:Basketball(M)
END:VEVENT
BEGIN:VEVENT
DTSTART;TZID=America/Chicago:20260129T180000
DTEND;TZID=America/Chicago:20260129T180000
DTSTAMP:20260420T213436
CREATED:20251203T174938Z
LAST-MODIFIED:20251203T174938Z
UID:9611-1769709600-1769709600@batigersports.com
SUMMARY:Tigers - 8th Girls Black Basketball
DESCRIPTION:Muskogee Green
URL:https://batigersports.com/schedule/tigers-8th-girls-black-basketball-11/
CATEGORIES:Basketball(F)
END:VEVENT
BEGIN:VEVENT
DTSTART;TZID=America/Chicago:20260129T180000
DTEND;TZID=America/Chicago:20260129T180000
DTSTAMP:20260420T213436
CREATED:20251203T174938Z
LAST-MODIFIED:20251203T174938Z
UID:9612-1769709600-1769709600@batigersports.com
SUMMARY:Lady Tigers - Freshmen Black Basketball
DESCRIPTION:Jenks Maroon
URL:https://batigersports.com/schedule/lady-tigers-freshmen-black-basketball-14/
CATEGORIES:Basketball(F)
END:VEVENT
BEGIN:VEVENT
DTSTART;TZID=America/Chicago:20260127T180000
DTEND;TZID=America/Chicago:20260127T180000
DTSTAMP:20260420T213436
CREATED:20251203T174938Z
LAST-MODIFIED:20251203T174938Z
UID:9610-1769536800-1769536800@batigersports.com
SUMMARY:Tigers - Varsity Wrestling
DESCRIPTION:Bixby High School HS: Wrestling(M)
URL:https://batigersports.com/schedule/tigers-varsity-wrestling-15/
CATEGORIES:Wrestling(M)
END:VEVENT
BEGIN:VEVENT
DTSTART;TZID=America/Chicago:20260126T190000
DTEND;TZID=America/Chicago:20260126T190000
DTSTAMP:20260420T213436
CREATED:20251203T174938Z
LAST-MODIFIED:20251203T174938Z
UID:9609-1769454000-1769454000@batigersports.com
SUMMARY:Tigers - Freshmen Boys Gold Basketball
DESCRIPTION:Bartlesville High School Freshman Basketball
URL:https://batigersports.com/schedule/tigers-freshmen-boys-gold-basketball-16/
CATEGORIES:Basketball(M)
END:VEVENT
BEGIN:VEVENT
DTSTART;TZID=America/Chicago:20260126T180000
DTEND;TZID=America/Chicago:20260126T180000
DTSTAMP:20260420T213436
CREATED:20251203T174938Z
LAST-MODIFIED:20251203T174938Z
UID:9608-1769450400-1769450400@batigersports.com
SUMMARY:Lady Tigers - Freshmen Black Basketball
DESCRIPTION:Owasso
URL:https://batigersports.com/schedule/lady-tigers-freshmen-black-basketball-13/
CATEGORIES:Basketball(F)
END:VEVENT
BEGIN:VEVENT
DTSTART;TZID=America/Chicago:20260122T190000
DTEND;TZID=America/Chicago:20260122T190000
DTSTAMP:20260420T213436
CREATED:20251203T174923Z
LAST-MODIFIED:20251203T174923Z
UID:9607-1769108400-1769108400@batigersports.com
SUMMARY:Tigers - 8th Boys White Basketball
DESCRIPTION:Owasso Junior High Owasso Rams White
URL:https://batigersports.com/schedule/tigers-8th-boys-white-basketball-10/
CATEGORIES:Basketball(M)
END:VEVENT
BEGIN:VEVENT
DTSTART;TZID=America/Chicago:20260122T180000
DTEND;TZID=America/Chicago:20260122T180000
DTSTAMP:20260420T213436
CREATED:20251203T174923Z
LAST-MODIFIED:20251203T174923Z
UID:9606-1769104800-1769104800@batigersports.com
SUMMARY:Tigers - 8th Girls White Basketball
DESCRIPTION:Owasso White
URL:https://batigersports.com/schedule/tigers-8th-girls-white-basketball-10/
CATEGORIES:Basketball(F)
END:VEVENT
BEGIN:VEVENT
DTSTART;TZID=America/Chicago:20260120T200000
DTEND;TZID=America/Chicago:20260120T200000
DTSTAMP:20260420T213436
CREATED:20251203T174923Z
LAST-MODIFIED:20251203T174923Z
UID:9605-1768939200-1768939200@batigersports.com
SUMMARY:Tigers - Varsity Boys Basketball
DESCRIPTION:Bartlesville High School Varsity Basketball
URL:https://batigersports.com/schedule/tigers-varsity-boys-basketball-14/
CATEGORIES:Basketball(M)
END:VEVENT
BEGIN:VEVENT
DTSTART;TZID=America/Chicago:20260115T190000
DTEND;TZID=America/Chicago:20260115T190000
DTSTAMP:20260420T213436
CREATED:20251203T174923Z
LAST-MODIFIED:20251203T174923Z
UID:9604-1768503600-1768503600@batigersports.com
SUMMARY:Tigers - Freshmen Boys Gold Basketball
DESCRIPTION:Union Red
URL:https://batigersports.com/schedule/tigers-freshmen-boys-gold-basketball-15/
CATEGORIES:Basketball(M)
END:VEVENT
BEGIN:VEVENT
DTSTART;TZID=America/Chicago:20260115T180000
DTEND;TZID=America/Chicago:20260115T180000
DTSTAMP:20260420T213436
CREATED:20251203T174923Z
LAST-MODIFIED:20251203T174923Z
UID:9603-1768500000-1768500000@batigersports.com
SUMMARY:Tigers - Sophomore Boys Basketball
DESCRIPTION:Jenks High School Jenks
URL:https://batigersports.com/schedule/tigers-sophomore-boys-basketball-12/
CATEGORIES:Basketball(M)
END:VEVENT
BEGIN:VEVENT
DTSTART;TZID=America/Chicago:20260115T180000
DTEND;TZID=America/Chicago:20260115T180000
DTSTAMP:20260420T213436
CREATED:20251203T174908Z
LAST-MODIFIED:20251203T174908Z
UID:9602-1768500000-1768500000@batigersports.com
SUMMARY:Tigers - 8th Boys Gold Basketball
DESCRIPTION:Sapulpa White
URL:https://batigersports.com/schedule/tigers-8th-boys-gold-basketball-10/
CATEGORIES:Basketball(M)
END:VEVENT
BEGIN:VEVENT
DTSTART;TZID=America/Chicago:20260115T170000
DTEND;TZID=America/Chicago:20260115T170000
DTSTAMP:20260420T213436
CREATED:20251203T174908Z
LAST-MODIFIED:20251203T174908Z
UID:9601-1768496400-1768496400@batigersports.com
SUMMARY:Tigers - 8th Girls Gold Basketball
DESCRIPTION:Sapulpa White
URL:https://batigersports.com/schedule/tigers-8th-girls-gold-basketball-11/
CATEGORIES:Basketball(F)
END:VEVENT
BEGIN:VEVENT
DTSTART;TZID=America/Chicago:20260113T200000
DTEND;TZID=America/Chicago:20260113T200000
DTSTAMP:20260420T213436
CREATED:20251203T174908Z
LAST-MODIFIED:20251203T174908Z
UID:9600-1768334400-1768334400@batigersports.com
SUMMARY:Tigers - Varsity Boys Basketball
DESCRIPTION:Muskogee High School (9-12) Muskogee
URL:https://batigersports.com/schedule/tigers-varsity-boys-basketball-13/
CATEGORIES:Basketball(M)
END:VEVENT
BEGIN:VEVENT
DTSTART;TZID=America/Chicago:20260113T183000
DTEND;TZID=America/Chicago:20260113T183000
DTSTAMP:20260420T213436
CREATED:20251203T174908Z
LAST-MODIFIED:20251203T174908Z
UID:9599-1768329000-1768329000@batigersports.com
SUMMARY:Lady Tigers - Varsity Girls Basketball
DESCRIPTION:Muskogee
URL:https://batigersports.com/schedule/lady-tigers-varsity-girls-basketball-13/
CATEGORIES:Basketball(F)
END:VEVENT
BEGIN:VEVENT
DTSTART;TZID=America/Chicago:20260113T170000
DTEND;TZID=America/Chicago:20260113T170000
DTSTAMP:20260420T213436
CREATED:20251203T174908Z
LAST-MODIFIED:20251203T174908Z
UID:9598-1768323600-1768323600@batigersports.com
SUMMARY:Tigers - JV Boys Basketball
DESCRIPTION:Muskogee High School (9-12) Muskogee
URL:https://batigersports.com/schedule/tigers-jv-boys-basketball-12/
CATEGORIES:Basketball(M)
END:VEVENT
BEGIN:VEVENT
DTSTART;TZID=America/Chicago:20260113T160000
DTEND;TZID=America/Chicago:20260113T160000
DTSTAMP:20260420T213436
CREATED:20251203T174853Z
LAST-MODIFIED:20251203T174853Z
UID:9597-1768320000-1768320000@batigersports.com
SUMMARY:Lady Tigers - JV Basketball
DESCRIPTION:Muskogee
URL:https://batigersports.com/schedule/lady-tigers-jv-basketball-13/
CATEGORIES:Basketball(F)
END:VEVENT
BEGIN:VEVENT
DTSTART;TZID=America/Chicago:20260112T190000
DTEND;TZID=America/Chicago:20260112T190000
DTSTAMP:20260420T213436
CREATED:20251203T174853Z
LAST-MODIFIED:20251203T174853Z
UID:9595-1768244400-1768244400@batigersports.com
SUMMARY:Tigers - 8th Boys Black Basketball
DESCRIPTION:Carver MS Carver Purple
URL:https://batigersports.com/schedule/tigers-8th-boys-black-basketball-10/
CATEGORIES:Basketball(M)
END:VEVENT
BEGIN:VEVENT
DTSTART;TZID=America/Chicago:20260112T190000
DTEND;TZID=America/Chicago:20260112T190000
DTSTAMP:20260420T213436
CREATED:20251203T174853Z
LAST-MODIFIED:20251203T174853Z
UID:9596-1768244400-1768244400@batigersports.com
SUMMARY:Tigers - Freshmen Boys Black Basketball
DESCRIPTION:Bishop Kelley HS 9th Grade
URL:https://batigersports.com/schedule/tigers-freshmen-boys-black-basketball-11/
CATEGORIES:Basketball(M)
END:VEVENT
BEGIN:VEVENT
DTSTART;TZID=America/Chicago:20260112T190000
DTEND;TZID=America/Chicago:20260112T190000
DTSTAMP:20260420T213436
CREATED:20251203T174853Z
LAST-MODIFIED:20251203T174853Z
UID:9594-1768244400-1768244400@batigersports.com
SUMMARY:Tigers - Sophomore Boys Basketball
DESCRIPTION:Sapulpa
URL:https://batigersports.com/schedule/tigers-sophomore-boys-basketball-11/
CATEGORIES:Basketball(M)
END:VEVENT
END:VCALENDAR