BEGIN:VCALENDAR
VERSION:2.0
PRODID:-//BA Tiger Sports - ECPv6.15.20//NONSGML v1.0//EN
CALSCALE:GREGORIAN
METHOD:PUBLISH
X-WR-CALNAME:BA Tiger Sports
X-ORIGINAL-URL:https://batigersports.com
X-WR-CALDESC:Events for BA Tiger Sports
REFRESH-INTERVAL;VALUE=DURATION:PT1H
X-Robots-Tag:noindex
X-PUBLISHED-TTL:PT1H
BEGIN:VTIMEZONE
TZID:America/Chicago
BEGIN:DAYLIGHT
TZOFFSETFROM:-0600
TZOFFSETTO:-0500
TZNAME:CDT
DTSTART:20240310T080000
END:DAYLIGHT
BEGIN:STANDARD
TZOFFSETFROM:-0500
TZOFFSETTO:-0600
TZNAME:CST
DTSTART:20241103T070000
END:STANDARD
BEGIN:DAYLIGHT
TZOFFSETFROM:-0600
TZOFFSETTO:-0500
TZNAME:CDT
DTSTART:20250309T080000
END:DAYLIGHT
BEGIN:STANDARD
TZOFFSETFROM:-0500
TZOFFSETTO:-0600
TZNAME:CST
DTSTART:20251102T070000
END:STANDARD
BEGIN:DAYLIGHT
TZOFFSETFROM:-0600
TZOFFSETTO:-0500
TZNAME:CDT
DTSTART:20260308T080000
END:DAYLIGHT
BEGIN:STANDARD
TZOFFSETFROM:-0500
TZOFFSETTO:-0600
TZNAME:CST
DTSTART:20261101T070000
END:STANDARD
END:VTIMEZONE
BEGIN:VEVENT
DTSTART;TZID=America/Chicago:20250804T170000
DTEND;TZID=America/Chicago:20250804T170000
DTSTAMP:20260421T002846
CREATED:20250807T160331Z
LAST-MODIFIED:20250807T160331Z
UID:9261-1754326800-1754326800@batigersports.com
SUMMARY:Tigers - 7th American Volleyball
DESCRIPTION:7th A vs 7th B
URL:https://batigersports.com/schedule/tigers-7th-american-volleyball/
CATEGORIES:Volleyball(F)
END:VEVENT
BEGIN:VEVENT
DTSTART;TZID=America/Chicago:20250804T174500
DTEND;TZID=America/Chicago:20250804T174500
DTSTAMP:20260421T002846
CREATED:20250807T160331Z
LAST-MODIFIED:20250807T160331Z
UID:9262-1754329500-1754329500@batigersports.com
SUMMARY:Tigers - 8th American Volleyball
DESCRIPTION:8th A vs 8th B
URL:https://batigersports.com/schedule/tigers-8th-american-volleyball/
CATEGORIES:Volleyball(F)
END:VEVENT
BEGIN:VEVENT
DTSTART;TZID=America/Chicago:20250804T183000
DTEND;TZID=America/Chicago:20250804T183000
DTSTAMP:20260421T002846
CREATED:20250807T160331Z
LAST-MODIFIED:20250807T160331Z
UID:9263-1754332200-1754332200@batigersports.com
SUMMARY:Tigers - JV Volleyball
DESCRIPTION:BA 9th
URL:https://batigersports.com/schedule/tigers-jv-volleyball-9/
CATEGORIES:Volleyball(F)
END:VEVENT
BEGIN:VEVENT
DTSTART;TZID=America/Chicago:20250804T191500
DTEND;TZID=America/Chicago:20250804T191500
DTSTAMP:20260421T002846
CREATED:20250807T160331Z
LAST-MODIFIED:20250807T160331Z
UID:9264-1754334900-1754334900@batigersports.com
SUMMARY:Tigers - Varsity Volleyball
DESCRIPTION:BA JV
URL:https://batigersports.com/schedule/tigers-varsity-volleyball-11/
CATEGORIES:Volleyball(F)
END:VEVENT
BEGIN:VEVENT
DTSTART;TZID=America/Chicago:20250814T180000
DTEND;TZID=America/Chicago:20250814T180000
DTSTAMP:20260421T002846
CREATED:20250807T160334Z
LAST-MODIFIED:20250807T160334Z
UID:9266-1755194400-1755194400@batigersports.com
SUMMARY:Lady Tigers - Varsity FP Softball
DESCRIPTION:Yukon
URL:https://batigersports.com/schedule/lady-tigers-varsity-fp-softball-20/
CATEGORIES:Softball(F)
END:VEVENT
BEGIN:VEVENT
DTSTART;TZID=America/Chicago:20250816T080000
DTEND;TZID=America/Chicago:20250816T080000
DTSTAMP:20260421T002846
CREATED:20250807T160334Z
LAST-MODIFIED:20250807T160334Z
UID:9268-1755331200-1755331200@batigersports.com
SUMMARY:Tigers - Junior Varsity Cross Country
DESCRIPTION:BAXC Invitational
URL:https://batigersports.com/schedule/tigers-junior-varsity-cross-country/
CATEGORIES:Cross Country(M)
END:VEVENT
BEGIN:VEVENT
DTSTART;TZID=America/Chicago:20250816T080000
DTEND;TZID=America/Chicago:20250816T080000
DTSTAMP:20260421T002846
CREATED:20250807T160334Z
LAST-MODIFIED:20250807T160334Z
UID:9267-1755331200-1755331200@batigersports.com
SUMMARY:Tigers - Varsity Cross Country
DESCRIPTION:BAXC Invitational
URL:https://batigersports.com/schedule/tigers-varsity-cross-country/
CATEGORIES:Cross Country(M)
END:VEVENT
BEGIN:VEVENT
DTSTART;TZID=America/Chicago:20250816T083000
DTEND;TZID=America/Chicago:20250816T083000
DTSTAMP:20260421T002846
CREATED:20250807T160335Z
LAST-MODIFIED:20250807T160335Z
UID:9269-1755333000-1755333000@batigersports.com
SUMMARY:Tigers - Varsity Cross Country
DESCRIPTION:BAXC Invitational
URL:https://batigersports.com/schedule/tigers-varsity-cross-country-2/
CATEGORIES:Cross Country(F)
END:VEVENT
BEGIN:VEVENT
DTSTART;TZID=America/Chicago:20250818T160000
DTEND;TZID=America/Chicago:20250818T160000
DTSTAMP:20260421T002846
CREATED:20250807T160349Z
LAST-MODIFIED:20250807T160349Z
UID:9270-1755532800-1755532800@batigersports.com
SUMMARY:Tigers - 8th National Volleyball
DESCRIPTION:Bixby Middle School MS: Volleyball (F)- 8A (Blue)
URL:https://batigersports.com/schedule/tigers-8th-national-volleyball/
CATEGORIES:Volleyball(F)
END:VEVENT
BEGIN:VEVENT
DTSTART;TZID=America/Chicago:20250818T163000
DTEND;TZID=America/Chicago:20250818T163000
DTSTAMP:20260421T002846
CREATED:20250807T160349Z
LAST-MODIFIED:20250807T160349Z
UID:9271-1755534600-1755534600@batigersports.com
SUMMARY:Tigers - 7th American Volleyball
DESCRIPTION:Bixby Middle School MS: Volleyball (F) – 7B(Red)
URL:https://batigersports.com/schedule/tigers-7th-american-volleyball-2/
CATEGORIES:Volleyball(F)
END:VEVENT
BEGIN:VEVENT
DTSTART;TZID=America/Chicago:20250818T163000
DTEND;TZID=America/Chicago:20250818T163000
DTSTAMP:20260421T002846
CREATED:20250807T160349Z
LAST-MODIFIED:20250807T160349Z
UID:9272-1755534600-1755534600@batigersports.com
SUMMARY:Tigers - 7th National Volleyball
DESCRIPTION:Bixby Middle School MS: Volleyball (F) – 7A(Blue)
URL:https://batigersports.com/schedule/tigers-7th-national-volleyball/
CATEGORIES:Volleyball(F)
END:VEVENT
BEGIN:VEVENT
DTSTART;TZID=America/Chicago:20250818T163000
DTEND;TZID=America/Chicago:20250818T163000
DTSTAMP:20260421T002846
CREATED:20250807T160349Z
LAST-MODIFIED:20250807T160349Z
UID:9273-1755534600-1755534600@batigersports.com
SUMMARY:Tigers - 7th National Volleyball
DESCRIPTION:Bixby Middle School MS: Volleyball (F) – 7B(Red)
URL:https://batigersports.com/schedule/tigers-7th-national-volleyball-2/
CATEGORIES:Volleyball(F)
END:VEVENT
BEGIN:VEVENT
DTSTART;TZID=America/Chicago:20250818T173000
DTEND;TZID=America/Chicago:20250818T173000
DTSTAMP:20260421T002846
CREATED:20250807T160350Z
LAST-MODIFIED:20250807T160350Z
UID:9274-1755538200-1755538200@batigersports.com
SUMMARY:Tigers - 8th American Volleyball
DESCRIPTION:Bixby Middle School MS: Volleyball (F)- 8B(Red)
URL:https://batigersports.com/schedule/tigers-8th-american-volleyball-2/
CATEGORIES:Volleyball(F)
END:VEVENT
BEGIN:VEVENT
DTSTART;TZID=America/Chicago:20250818T180000
DTEND;TZID=America/Chicago:20250818T180000
DTSTAMP:20260421T002846
CREATED:20250807T160404Z
LAST-MODIFIED:20250807T160404Z
UID:9275-1755540000-1755540000@batigersports.com
SUMMARY:Tigers - 8th FP Softball
DESCRIPTION:Jenks
URL:https://batigersports.com/schedule/tigers-8th-fp-softball-8/
CATEGORIES:Softball(F)
END:VEVENT
BEGIN:VEVENT
DTSTART;TZID=America/Chicago:20250818T183000
DTEND;TZID=America/Chicago:20250818T183000
DTSTAMP:20260421T002846
CREATED:20250807T160404Z
LAST-MODIFIED:20250807T160404Z
UID:9276-1755541800-1755541800@batigersports.com
SUMMARY:Tigers - 8th National Volleyball
DESCRIPTION:Bixby Middle School MS: Volleyball (F)- 8B(Red)
URL:https://batigersports.com/schedule/tigers-8th-national-volleyball-2/
CATEGORIES:Volleyball(F)
END:VEVENT
BEGIN:VEVENT
DTSTART;TZID=America/Chicago:20250818T193000
DTEND;TZID=America/Chicago:20250818T193000
DTSTAMP:20260421T002846
CREATED:20250807T160404Z
LAST-MODIFIED:20250807T160404Z
UID:9277-1755545400-1755545400@batigersports.com
SUMMARY:Tigers - 8th American Volleyball
DESCRIPTION:Bixby Middle School MS: Volleyball (F)- 8A (Blue)
URL:https://batigersports.com/schedule/tigers-8th-american-volleyball-3/
CATEGORIES:Volleyball(F)
END:VEVENT
BEGIN:VEVENT
DTSTART;TZID=America/Chicago:20250818T193000
DTEND;TZID=America/Chicago:20250818T193000
DTSTAMP:20260421T002846
CREATED:20250807T160404Z
LAST-MODIFIED:20250807T160404Z
UID:9278-1755545400-1755545400@batigersports.com
SUMMARY:Tigers - 7th American Volleyball
DESCRIPTION:Bixby Middle School MS: Volleyball (F) – 7A(Blue)
URL:https://batigersports.com/schedule/tigers-7th-american-volleyball-3/
CATEGORIES:Volleyball(F)
END:VEVENT
BEGIN:VEVENT
DTSTART;TZID=America/Chicago:20250819T163000
DTEND;TZID=America/Chicago:20250819T163000
DTSTAMP:20260421T002846
CREATED:20250807T160404Z
LAST-MODIFIED:20250807T160404Z
UID:9279-1755621000-1755621000@batigersports.com
SUMMARY:Tigers - Freshmen Volleyball
DESCRIPTION:Bixby High School HS: 9th Grade Volleyball(F)
URL:https://batigersports.com/schedule/tigers-freshmen-volleyball-7/
CATEGORIES:Volleyball(F)
END:VEVENT
BEGIN:VEVENT
DTSTART;TZID=America/Chicago:20250819T173000
DTEND;TZID=America/Chicago:20250819T173000
DTSTAMP:20260421T002846
CREATED:20250807T160557Z
LAST-MODIFIED:20250807T160557Z
UID:9280-1755624600-1755624600@batigersports.com
SUMMARY:Lady Tigers - JV Black FP Softball
DESCRIPTION:Muskogee
URL:https://batigersports.com/schedule/lady-tigers-jv-black-fp-softball-18/
CATEGORIES:Softball(F)
END:VEVENT
BEGIN:VEVENT
DTSTART;TZID=America/Chicago:20250819T173000
DTEND;TZID=America/Chicago:20250819T173000
DTSTAMP:20260421T002846
CREATED:20250807T160557Z
LAST-MODIFIED:20250807T160557Z
UID:9281-1755624600-1755624600@batigersports.com
SUMMARY:Tigers - JV Volleyball
DESCRIPTION:Bixby High School HS: JV Volleyball(F)
URL:https://batigersports.com/schedule/tigers-jv-volleyball-10/
CATEGORIES:Volleyball(F)
END:VEVENT
BEGIN:VEVENT
DTSTART;TZID=America/Chicago:20250819T183000
DTEND;TZID=America/Chicago:20250819T183000
DTSTAMP:20260421T002846
CREATED:20250807T160557Z
LAST-MODIFIED:20250807T160557Z
UID:9282-1755628200-1755628200@batigersports.com
SUMMARY:Tigers - Varsity Volleyball
DESCRIPTION:Bixby High School HS Varsity
URL:https://batigersports.com/schedule/tigers-varsity-volleyball-12/
CATEGORIES:Volleyball(F)
END:VEVENT
BEGIN:VEVENT
DTSTART;TZID=America/Chicago:20250819T190000
DTEND;TZID=America/Chicago:20250819T190000
DTSTAMP:20260421T002846
CREATED:20250807T160557Z
LAST-MODIFIED:20250807T160557Z
UID:9283-1755630000-1755630000@batigersports.com
SUMMARY:Lady Tigers - Varsity FP Softball
DESCRIPTION:Muskogee
URL:https://batigersports.com/schedule/lady-tigers-varsity-fp-softball-21/
CATEGORIES:Softball(F)
END:VEVENT
BEGIN:VEVENT
DTSTART;TZID=America/Chicago:20250821T180000
DTEND;TZID=America/Chicago:20250821T180000
DTSTAMP:20260421T002846
CREATED:20250807T160557Z
LAST-MODIFIED:20250807T160557Z
UID:9284-1755799200-1755799200@batigersports.com
SUMMARY:Tigers - 8th FP Softball
DESCRIPTION:Bixby
URL:https://batigersports.com/schedule/tigers-8th-fp-softball-9/
CATEGORIES:Softball(F)
END:VEVENT
BEGIN:VEVENT
DTSTART;TZID=America/Chicago:20250822T090000
DTEND;TZID=America/Chicago:20250822T090000
DTSTAMP:20260421T002846
CREATED:20250807T160612Z
LAST-MODIFIED:20250807T160612Z
UID:9285-1755853200-1755853200@batigersports.com
SUMMARY:Tigers - Varsity Volleyball
DESCRIPTION:BA Varsity Tournament
URL:https://batigersports.com/schedule/tigers-varsity-volleyball-13/
CATEGORIES:Volleyball(F)
END:VEVENT
BEGIN:VEVENT
DTSTART;TZID=America/Chicago:20250823T090000
DTEND;TZID=America/Chicago:20250823T090000
DTSTAMP:20260421T002846
CREATED:20250807T160612Z
LAST-MODIFIED:20250807T160612Z
UID:9286-1755939600-1755939600@batigersports.com
SUMMARY:Tigers - Varsity Volleyball
DESCRIPTION:BA Varsity Tournament
URL:https://batigersports.com/schedule/tigers-varsity-volleyball-14/
CATEGORIES:Volleyball(F)
END:VEVENT
BEGIN:VEVENT
DTSTART;TZID=America/Chicago:20250825T180000
DTEND;TZID=America/Chicago:20250825T180000
DTSTAMP:20260421T002846
CREATED:20250807T160612Z
LAST-MODIFIED:20250807T160612Z
UID:9287-1756144800-1756144800@batigersports.com
SUMMARY:Tigers - 8th FP Softball
DESCRIPTION:Bartlesville
URL:https://batigersports.com/schedule/tigers-8th-fp-softball-10/
CATEGORIES:Softball(F)
END:VEVENT
BEGIN:VEVENT
DTSTART;TZID=America/Chicago:20250825T180000
DTEND;TZID=America/Chicago:20250825T180000
DTSTAMP:20260421T002846
CREATED:20250807T160612Z
LAST-MODIFIED:20250807T160612Z
UID:9288-1756144800-1756144800@batigersports.com
SUMMARY:Tigers - Freshmen Gold Football
DESCRIPTION:FVC PREVIEW
URL:https://batigersports.com/schedule/tigers-freshmen-gold-football-8/
CATEGORIES:Football(M)
END:VEVENT
BEGIN:VEVENT
DTSTART;TZID=America/Chicago:20250826T180000
DTEND;TZID=America/Chicago:20250826T180000
DTSTAMP:20260421T002846
CREATED:20250807T160613Z
LAST-MODIFIED:20250807T160613Z
UID:9289-1756231200-1756231200@batigersports.com
SUMMARY:Tigers - 8th FP Softball
DESCRIPTION:Sapulpa
URL:https://batigersports.com/schedule/tigers-8th-fp-softball-11/
CATEGORIES:Softball(F)
END:VEVENT
END:VCALENDAR